BEGIN:VCALENDAR
VERSION:2.0
PRODID:-//Nevada SBDC - ECPv6.10.1//NONSGML v1.0//EN
CALSCALE:GREGORIAN
METHOD:PUBLISH
X-ORIGINAL-URL:https://nevadasbdc.org
X-WR-CALDESC:Events for Nevada SBDC
REFRESH-INTERVAL;VALUE=DURATION:PT1H
X-Robots-Tag:noindex
X-PUBLISHED-TTL:PT1H
BEGIN:VTIMEZONE
TZID:America/Los_Angeles
BEGIN:DAYLIGHT
TZOFFSETFROM:-0800
TZOFFSETTO:-0700
TZNAME:PDT
DTSTART:20200308T100000
END:DAYLIGHT
BEGIN:STANDARD
TZOFFSETFROM:-0700
TZOFFSETTO:-0800
TZNAME:PST
DTSTART:20201101T090000
END:STANDARD
END:VTIMEZONE
BEGIN:VEVENT
DTSTART;TZID=America/Los_Angeles:20200403T090000
DTEND;TZID=America/Los_Angeles:20200403T103000
DTSTAMP:20260425T065839
CREATED:20191112T221111Z
LAST-MODIFIED:20200612T200529Z
UID:10000108-1585904400-1585909800@nevadasbdc.org
SUMMARY:WEBINAR: Where's the Contract? Small Business Innovation Research (SBIR) Program
DESCRIPTION:PTAC will deliver its monthly “Where’s the Contract” series via WEBINAR this month\, and will continue monthly WEBINARS until they receive official notification to go back to live workshops. Please note that registration for webinars is different from registrations for the live workshops.  \nJoin PTAC’s Government Contract Advisor Maggie Neidigh as she leads the audience to collectively examine the variety of business opportunities associated with the federal government’s SBIR program! She will provide a brief background of the program\, solicitations will be reviewed\, and other areas will be covered. More information\, as found below\, can be found on the SBIR website at https://www.sbir.gov/about/about-sbir \n \nThe SBIR Program \nThe Small Business Innovation Research (SBIR) program is a highly competitive program that encourages domestic small businesses to engage in Federal Research/Research and Development (R/R&D) that has the potential for commercialization. Through a competitive awards-based program\, SBIR enables small businesses to explore their technological potential and provides the incentive to profit from its commercialization. By including qualified small businesses in the nation’s R&D arena\, high-tech innovation is stimulated and the United States gains entrepreneurial spirit as it meets its specific research and development needs. \nSBIR STTR Program Overview Presentation \nSBIR Mission and Program Goals \nThe mission of the SBIR program is to support scientific excellence and technological innovation through the investment of Federal research funds in critical American priorities to build a strong national economy. \nThe program’s goals are four-fold: \n\nStimulate technological innovation.\nMeet Federal research and development needs.\nFoster and encourage participation in innovation and entrepreneurship by women and socially or economically disadvantaged persons.\nIncrease private-sector commercialization of innovations derived from Federal research and development funding\n\nWho should attend: Interested Nevada small businesses \n  \n  \n    \nThis Procurement Technical Assistance Center is funded in part through a cooperative agreement with the Defense Logistics Agency.
URL:https://nevadasbdc.org/event/wheres-the-contract-reno-april-3-2020/
LOCATION:ONLINE\, STATEWIDE\, NV\, United States
CATEGORIES:Government Contracting,Networking,Resource Information
ORGANIZER;CN="APEX Accelerator Northern Nevada":MAILTO:procurement@diversifynevada.com
GEO:38.8026097;-116.419389
END:VEVENT
END:VCALENDAR