BEGIN:VCALENDAR
VERSION:2.0
PRODID:-//Nevada SBDC - ECPv6.10.1//NONSGML v1.0//EN
CALSCALE:GREGORIAN
METHOD:PUBLISH
X-WR-CALNAME:Nevada SBDC
X-ORIGINAL-URL:https://nevadasbdc.org
X-WR-CALDESC:Events for Nevada SBDC
REFRESH-INTERVAL;VALUE=DURATION:PT1H
X-Robots-Tag:noindex
X-PUBLISHED-TTL:PT1H
BEGIN:VTIMEZONE
TZID:America/Los_Angeles
BEGIN:DAYLIGHT
TZOFFSETFROM:-0800
TZOFFSETTO:-0700
TZNAME:PDT
DTSTART:20200308T100000
END:DAYLIGHT
BEGIN:STANDARD
TZOFFSETFROM:-0700
TZOFFSETTO:-0800
TZNAME:PST
DTSTART:20201101T090000
END:STANDARD
END:VTIMEZONE
BEGIN:VEVENT
DTSTART;TZID=America/Los_Angeles:20200415T140000
DTEND;TZID=America/Los_Angeles:20200415T153000
DTSTAMP:20260425T065621
CREATED:20200320T164118Z
LAST-MODIFIED:20200612T200144Z
UID:10000001-1586959200-1586964600@nevadasbdc.org
SUMMARY:WEBINAR: Disaster Recovery Assistance Government Procurement Opportunities Guide
DESCRIPTION:PTAC continues to provide a variety of relevant webinars in addition to the monthly “Where’s the Contract” series  to assist the small business community with government contracting information and resources.  The monthly “Where’s the Contract” series will be provided via WEBINAR until PTAC receives official notification to go back to live workshops. Please note that registration for webinars is different from registrations for the live workshops.  \nJoin PTAC’s Government Contract Advisor John Rice as he goes over Nevada PTAC’s Disaster Recovery Assistance Government Procurement Opportunities Guide. It was created in 2019 to provide you with a single source of information on how to provide federal\, state\, and local governments supplies and services in support of disaster recovery actions. \n \nWho should attend: Interested Nevada small businesses \n  \n    \nThis Procurement Technical Assistance Center is funded in part through a cooperative agreement with the Defense Logistics Agency.
URL:https://nevadasbdc.org/event/disaster-assistance-recovery-webinar-april-2020/
LOCATION:ONLINE\, STATEWIDE\, NV\, United States
CATEGORIES:Government Contracting,Networking,Resource Information
ORGANIZER;CN="APEX Accelerator Northern Nevada":MAILTO:procurement@diversifynevada.com
GEO:38.8026097;-116.419389
END:VEVENT
END:VCALENDAR