BEGIN:VCALENDAR
VERSION:2.0
PRODID:-//Nevada SBDC - ECPv6.10.1//NONSGML v1.0//EN
CALSCALE:GREGORIAN
METHOD:PUBLISH
X-WR-CALNAME:Nevada SBDC
X-ORIGINAL-URL:https://nevadasbdc.org
X-WR-CALDESC:Events for Nevada SBDC
REFRESH-INTERVAL;VALUE=DURATION:PT1H
X-Robots-Tag:noindex
X-PUBLISHED-TTL:PT1H
BEGIN:VTIMEZONE
TZID:America/Los_Angeles
BEGIN:DAYLIGHT
TZOFFSETFROM:-0800
TZOFFSETTO:-0700
TZNAME:PDT
DTSTART:20200308T100000
END:DAYLIGHT
BEGIN:STANDARD
TZOFFSETFROM:-0700
TZOFFSETTO:-0800
TZNAME:PST
DTSTART:20201101T090000
END:STANDARD
END:VTIMEZONE
BEGIN:VEVENT
DTSTART;TZID=America/Los_Angeles:20200518T173000
DTEND;TZID=America/Los_Angeles:20200518T193000
DTSTAMP:20260425T051644
CREATED:20200421T163445Z
LAST-MODIFIED:20200421T163445Z
UID:10000118-1589823000-1589830200@nevadasbdc.org
SUMMARY:WEBINAR: Internet Security for Server-Based Small Businesses
DESCRIPTION:CyberSecurity: Prevention\, Control\, and Recovery. \nProtect your enterprise assets and employees working from home. Don’t become a victim of the Ransom Virus or Phishing Attacks\, such as: IRS and “Mandatory” Online COVID-19 Test. \nIdentify current threats\, inventory potential home targets\, maximize security to the Cloud\, and monitor network traffic. Use NIST. Learn key backup and restoration methods. \nWHEN:\nMonday\, May 18th\n5:30 – 7:30 PM \nWHERE:\nOnline
URL:https://nevadasbdc.org/event/webinar-internet-security-for-server-based-small-businesses/
LOCATION:ONLINE\, STATEWIDE\, NV\, United States
ORGANIZER;CN="SCORE Northern NV":MAILTO:scorennv@gmail.com
GEO:38.8026097;-116.419389
END:VEVENT
END:VCALENDAR