BEGIN:VCALENDAR
VERSION:2.0
PRODID:-//Nevada SBDC - ECPv6.10.1//NONSGML v1.0//EN
CALSCALE:GREGORIAN
METHOD:PUBLISH
X-ORIGINAL-URL:https://nevadasbdc.org
X-WR-CALDESC:Events for Nevada SBDC
REFRESH-INTERVAL;VALUE=DURATION:PT1H
X-Robots-Tag:noindex
X-PUBLISHED-TTL:PT1H
BEGIN:VTIMEZONE
TZID:America/Los_Angeles
BEGIN:DAYLIGHT
TZOFFSETFROM:-0800
TZOFFSETTO:-0700
TZNAME:PDT
DTSTART:20200308T100000
END:DAYLIGHT
BEGIN:STANDARD
TZOFFSETFROM:-0700
TZOFFSETTO:-0800
TZNAME:PST
DTSTART:20201101T090000
END:STANDARD
TZID:America/Los_Angeles
BEGIN:DAYLIGHT
TZOFFSETFROM:-0800
TZOFFSETTO:-0700
TZNAME:PDT
DTSTART:20200308T100000
END:DAYLIGHT
BEGIN:STANDARD
TZOFFSETFROM:-0700
TZOFFSETTO:-0800
TZNAME:PST
DTSTART:20201101T090000
END:STANDARD
END:VTIMEZONE
BEGIN:VEVENT
DTSTART;TZID=America/Los_Angeles:20200520T100000
DTEND;TZID=America/Los_Angeles:20200520T110000
DTSTAMP:20260425T053357
CREATED:20200514T175007Z
LAST-MODIFIED:20200612T204654Z
UID:10000129-1589968800-1589972400@nevadasbdc.org
SUMMARY:WEBINAR: Getting Back to Work in Nevada: The Restaurant Industry
DESCRIPTION:Your restaurant operations may look very different as you begin to recover from COVID-19 impacts. Join us for a conversation as Chris Lynch of the Nevada Business Environmental Program provides an update on required guidelines for reopening under Governor Sisolak’s Phase 1 Reopening Plan; perspective from Reno restauranteur\, Mark Estee\, about the changes he is making to reopen; and business tips from Rod Jorgensen of the Nevada SBDC \n  \n  \nWHEN:\nWednesday\, May 20th\n10:00 – 11:00 AM \n \n  \nFunded in part through a Cooperative Agreement with the U.S. Small Business Administration.
URL:https://nevadasbdc.org/event/webinar-getting-back-to-work-in-nevada-the-restaurant-industry/
LOCATION:ONLINE\, STATEWIDE\, NV\, United States
CATEGORIES:Disaster Relief
ORGANIZER;CN="Nevada SBDC":MAILTO:admin@nevadasbdc.org
GEO:38.8026097;-116.419389
END:VEVENT
BEGIN:VEVENT
DTSTART;TZID=America/Los_Angeles:20200520T140000
DTEND;TZID=America/Los_Angeles:20200520T153000
DTSTAMP:20260425T053357
CREATED:20200320T165030Z
LAST-MODIFIED:20200612T200014Z
UID:10000002-1589983200-1589988600@nevadasbdc.org
SUMMARY:WEBINAR: "Other Transaction Agreements" with the U.S. Department of Defense (DOD)
DESCRIPTION:PTAC continues to provide a variety of relevant webinars in addition to the monthly “Where’s the Contract” series  to assist the small business community with government contracting information and resources.  The monthly “Where’s the Contract” series will be provided via WEBINAR until PTAC receives official notification to go back to live workshops. Please note that registration for webinars is different from registrations for the live workshops.  \nJoin PTAC’s Director Joan Rueben  as she discusses “Other Transaction Agreements” (OTAs)\, a special vehicle used by the DOD for obtaining or advancing research and development (R&D)\, prototypes\, etc. \n \nWho should attend: Interested Nevada small businesses \n  \n    \nThis Procurement Technical Assistance Center is funded in part through a cooperative agreement with the Defense Logistics Agency.
URL:https://nevadasbdc.org/event/other-transaction-agreements-may-2020/
LOCATION:ONLINE\, STATEWIDE\, NV\, United States
CATEGORIES:Government Contracting,Networking,Resource Information
ORGANIZER;CN="APEX Accelerator Northern Nevada":MAILTO:procurement@diversifynevada.com
GEO:38.8026097;-116.419389
END:VEVENT
END:VCALENDAR