BEGIN:VCALENDAR
VERSION:2.0
PRODID:-//Nevada SBDC - ECPv6.10.1//NONSGML v1.0//EN
CALSCALE:GREGORIAN
METHOD:PUBLISH
X-ORIGINAL-URL:https://nevadasbdc.org
X-WR-CALDESC:Events for Nevada SBDC
REFRESH-INTERVAL;VALUE=DURATION:PT1H
X-Robots-Tag:noindex
X-PUBLISHED-TTL:PT1H
BEGIN:VTIMEZONE
TZID:America/Los_Angeles
BEGIN:DAYLIGHT
TZOFFSETFROM:-0800
TZOFFSETTO:-0700
TZNAME:PDT
DTSTART:20200308T100000
END:DAYLIGHT
BEGIN:STANDARD
TZOFFSETFROM:-0700
TZOFFSETTO:-0800
TZNAME:PST
DTSTART:20201101T090000
END:STANDARD
END:VTIMEZONE
BEGIN:VEVENT
DTSTART;TZID=America/Los_Angeles:20200526T180000
DTEND;TZID=America/Los_Angeles:20200526T203000
DTSTAMP:20260425T053348
CREATED:20200421T164416Z
LAST-MODIFIED:20200421T164416Z
UID:10000123-1590516000-1590525000@nevadasbdc.org
SUMMARY:WEBINAR: Social Media and Advertising Through Social Media
DESCRIPTION:Tools to Drive Traffic and Sales \nIf They Don’t Know You\, They Can’t Buy from You! \nUse social media to increase your Internet presence and sales. Survey the basics of the top social media sites\, such as \n\nFacebook\,\nPinterest\,\nInstagram\,\nand LinkedIn.\n\nSelect the right words to drive traffic and create an ad campaign on Facebook. Be in the know with this ever-changing subject. \nWHEN:\nTuesday\, May 26th\n6:00 – 8:30 PM \nWHERE:\nOnline
URL:https://nevadasbdc.org/event/webinar-social-media-and-advertising-through-social-media/
LOCATION:ONLINE\, STATEWIDE\, NV\, United States
CATEGORIES:Digital Marketing,Social Media
ORGANIZER;CN="SCORE Northern NV":MAILTO:scorennv@gmail.com
GEO:38.8026097;-116.419389
END:VEVENT
END:VCALENDAR