BEGIN:VCALENDAR
VERSION:2.0
PRODID:-//Nevada SBDC - ECPv6.10.1//NONSGML v1.0//EN
CALSCALE:GREGORIAN
METHOD:PUBLISH
X-WR-CALNAME:Nevada SBDC
X-ORIGINAL-URL:https://nevadasbdc.org
X-WR-CALDESC:Events for Nevada SBDC
REFRESH-INTERVAL;VALUE=DURATION:PT1H
X-Robots-Tag:noindex
X-PUBLISHED-TTL:PT1H
BEGIN:VTIMEZONE
TZID:America/Los_Angeles
BEGIN:DAYLIGHT
TZOFFSETFROM:-0800
TZOFFSETTO:-0700
TZNAME:PDT
DTSTART:20200308T100000
END:DAYLIGHT
BEGIN:STANDARD
TZOFFSETFROM:-0700
TZOFFSETTO:-0800
TZNAME:PST
DTSTART:20201101T090000
END:STANDARD
END:VTIMEZONE
BEGIN:VEVENT
DTSTART;TZID=America/Los_Angeles:20200624T150000
DTEND;TZID=America/Los_Angeles:20200624T170000
DTSTAMP:20260425T034753
CREATED:20200612T230946Z
LAST-MODIFIED:20200615T171547Z
UID:10000020-1593010800-1593018000@nevadasbdc.org
SUMMARY:WEBINAR: Latin Network : Re-Inventa tu Negocio
DESCRIPTION:¡Este evento está diseñado para nuestros dueños de negocios de habla hispana de Nevada\, que desean expandir su negocio y adaptar su plan a la nueva norma- COVID 19! \nEl propósito\, conectarse con recursos relevantes y aprender nuevas prácticas comerciales que puedan aplicar de inmediato. (negocios solamente) \nTEMA: Saca Adelante tu Negocio –Cosas primordiales en que pensar con COVID-19. Comparte tu Experiencia “Foro Abierto” \nEvento gratuito\, pero debe registrarse. (recibirá el link para participar en el evento\, por correo electrónico) \nFormato:  Zoom- webinar (seminario en línea) \nMiércoles\, junio 24\, de 3-5 pm \nPresentadores: Anabel Navarro\, Sandra Rentas\, Diana Moreno. * Nevada SBDC BUSINESS ADVISORS
URL:https://nevadasbdc.org/event/latin-network-re-inventa-tu-negocio/
LOCATION:ONLINE\, STATEWIDE\, NV\, United States
ORGANIZER;CN="Nevada SBDC":MAILTO:admin@nevadasbdc.org
GEO:38.8026097;-116.419389
END:VEVENT
END:VCALENDAR