BEGIN:VCALENDAR
VERSION:2.0
PRODID:-//Nevada SBDC - ECPv6.10.1//NONSGML v1.0//EN
CALSCALE:GREGORIAN
METHOD:PUBLISH
X-WR-CALNAME:Nevada SBDC
X-ORIGINAL-URL:https://nevadasbdc.org
X-WR-CALDESC:Events for Nevada SBDC
REFRESH-INTERVAL;VALUE=DURATION:PT1H
X-Robots-Tag:noindex
X-PUBLISHED-TTL:PT1H
BEGIN:VTIMEZONE
TZID:America/Los_Angeles
BEGIN:DAYLIGHT
TZOFFSETFROM:-0800
TZOFFSETTO:-0700
TZNAME:PDT
DTSTART:20200308T100000
END:DAYLIGHT
BEGIN:STANDARD
TZOFFSETFROM:-0700
TZOFFSETTO:-0800
TZNAME:PST
DTSTART:20201101T090000
END:STANDARD
END:VTIMEZONE
BEGIN:VEVENT
DTSTART;TZID=America/Los_Angeles:20200709T150000
DTEND;TZID=America/Los_Angeles:20200709T163000
DTSTAMP:20260423T053636
CREATED:20200616T214349Z
LAST-MODIFIED:20200616T220409Z
UID:10000176-1594306800-1594312200@nevadasbdc.org
SUMMARY:WEBINAR: Internet Security for Home Office & Non-Server Based Small Businesses
DESCRIPTION:Learn ways to control your internet risks with this workshop: \n\nDiagram your current high-level data security configuration\nIdentify your data risks\nIdentify security measures to put in place now to reduce your risks\nIdentify security measures to put in place in the future to reduce your residual risks.
URL:https://nevadasbdc.org/event/webinar-internet-security-for-home-office-non-server-based-small-businesses/
LOCATION:ONLINE\, STATEWIDE\, NV\, United States
CATEGORIES:Tech Training
ORGANIZER;CN="SCORE Northern NV":MAILTO:scorennv@gmail.com
GEO:38.8026097;-116.419389
END:VEVENT
END:VCALENDAR