BEGIN:VCALENDAR
VERSION:2.0
PRODID:-//Nevada SBDC - ECPv6.10.1//NONSGML v1.0//EN
CALSCALE:GREGORIAN
METHOD:PUBLISH
X-ORIGINAL-URL:https://nevadasbdc.org
X-WR-CALDESC:Events for Nevada SBDC
REFRESH-INTERVAL;VALUE=DURATION:PT1H
X-Robots-Tag:noindex
X-PUBLISHED-TTL:PT1H
BEGIN:VTIMEZONE
TZID:America/Los_Angeles
BEGIN:DAYLIGHT
TZOFFSETFROM:-0800
TZOFFSETTO:-0700
TZNAME:PDT
DTSTART:20200308T100000
END:DAYLIGHT
BEGIN:STANDARD
TZOFFSETFROM:-0700
TZOFFSETTO:-0800
TZNAME:PST
DTSTART:20201101T090000
END:STANDARD
END:VTIMEZONE
BEGIN:VEVENT
DTSTART;TZID=America/Los_Angeles:20200714T130000
DTEND;TZID=America/Los_Angeles:20200714T143000
DTSTAMP:20260423T034052
CREATED:20200623T192223Z
LAST-MODIFIED:20200623T192223Z
UID:10000209-1594731600-1594737000@nevadasbdc.org
SUMMARY:WEBINAR: PPP Loan Forgiveness with Officeheads
DESCRIPTION:Did your small business receive an SBA PPP loan during the COVID-19 crisis? If so\, you will want to join Rebecca Berneck\, CEO of Officeheads\, as she helps small business clients understand the guidelines of the Paycheck Protection Program. \nOfficeheads has created software that will proactively monitor spending and calculate estimated loan forgiveness by completing the Loan Forgiveness Application throughout the 8-week covered period and beyond. This webinar summarizes the features of the program\, and walks through the PPP FAQs interpreted by Officeheads. \n \n  \nFunded in part through a Cooperative Agreement with the U.S. Small Business Administration.
URL:https://nevadasbdc.org/event/webinar-ppp-loan-forgiveness-with-officeheads/
LOCATION:ONLINE\, STATEWIDE\, NV\, United States
CATEGORIES:Disaster Relief,Webinar
ORGANIZER;CN="Nevada SBDC":MAILTO:admin@nevadasbdc.org
GEO:38.8026097;-116.419389
END:VEVENT
END:VCALENDAR