BEGIN:VCALENDAR
VERSION:2.0
PRODID:-//Nevada SBDC - ECPv6.10.1//NONSGML v1.0//EN
CALSCALE:GREGORIAN
METHOD:PUBLISH
X-ORIGINAL-URL:https://nevadasbdc.org
X-WR-CALDESC:Events for Nevada SBDC
REFRESH-INTERVAL;VALUE=DURATION:PT1H
X-Robots-Tag:noindex
X-PUBLISHED-TTL:PT1H
BEGIN:VTIMEZONE
TZID:America/Los_Angeles
BEGIN:DAYLIGHT
TZOFFSETFROM:-0800
TZOFFSETTO:-0700
TZNAME:PDT
DTSTART:20200308T100000
END:DAYLIGHT
BEGIN:STANDARD
TZOFFSETFROM:-0700
TZOFFSETTO:-0800
TZNAME:PST
DTSTART:20201101T090000
END:STANDARD
END:VTIMEZONE
BEGIN:VEVENT
DTSTART;TZID=America/Los_Angeles:20200715T140000
DTEND;TZID=America/Los_Angeles:20200715T153000
DTSTAMP:20260420T032102
CREATED:20200710T204041Z
LAST-MODIFIED:20200710T221645Z
UID:10000210-1594821600-1594827000@nevadasbdc.org
SUMMARY:Where's the Contract? Offered by PTAC and the Nevada SBDC
DESCRIPTION:Federal Government Level Construction Contracting\nOffered by the Nevada PTAC and the Nevada SBDC \nPresenter: John Rice\, Government Contracts Advisor\, Nevada PTAC\nThe speaker will discuss construction contracting at the federal government level. Federal government agencies have budgets and requirements for a variety of construction projects. Please come and learn about considerations a business should think about or know when pursuing such projects. \n“Where’s the Contract” is a no-charge monthly training program designed to put Nevada businesses on the path to securing government contracts and diversifying revenue sources. \n  \nThis procurement technical assistance center is funded in part through a cooperative agreement with the Defense Logistics Agency. All services are extended to the public on a non-discriminatory basis. Reasonable accommodations for persons with mental or physical disabilities will be made if requested at least two weeks in advance. Contact the Nevada SBDC State Office at (800) 240- 7094 to make arrangements. SBA cannot endorse any products\, opinions or services of any external parties or activities.
URL:https://nevadasbdc.org/event/wheres-the-contract-offered-by-ptac-and-the-nevada-sbdc/
LOCATION:ONLINE\, STATEWIDE\, NV\, United States
CATEGORIES:Government Contracting
ORGANIZER;CN="APEX Accelerator Northern Nevada":MAILTO:procurement@diversifynevada.com
GEO:38.8026097;-116.419389
END:VEVENT
END:VCALENDAR