BEGIN:VCALENDAR
VERSION:2.0
PRODID:-//Nevada SBDC - ECPv6.10.1//NONSGML v1.0//EN
CALSCALE:GREGORIAN
METHOD:PUBLISH
X-WR-CALNAME:Nevada SBDC
X-ORIGINAL-URL:https://nevadasbdc.org
X-WR-CALDESC:Events for Nevada SBDC
REFRESH-INTERVAL;VALUE=DURATION:PT1H
X-Robots-Tag:noindex
X-PUBLISHED-TTL:PT1H
BEGIN:VTIMEZONE
TZID:America/Los_Angeles
BEGIN:DAYLIGHT
TZOFFSETFROM:-0800
TZOFFSETTO:-0700
TZNAME:PDT
DTSTART:20240310T100000
END:DAYLIGHT
BEGIN:STANDARD
TZOFFSETFROM:-0700
TZOFFSETTO:-0800
TZNAME:PST
DTSTART:20241103T090000
END:STANDARD
END:VTIMEZONE
BEGIN:VEVENT
DTSTART;TZID=America/Los_Angeles:20241213T090000
DTEND;TZID=America/Los_Angeles:20241213T120000
DTSTAMP:20260425T034812
CREATED:20241030T201443Z
LAST-MODIFIED:20241030T201443Z
UID:10000707-1734080400-1734091200@nevadasbdc.org
SUMMARY:Hazardous Waste 101
DESCRIPTION:Hazardous Waste 101 is a free training where you and your team will learn proper management of hazardous waste\, RCRA manifest requirements\, waste identification and labeling requirements\, recordkeeping and reporting requirements\, and training requirements. Throughout the training\, BEP will provide tips for cost-saving approaches and resources to help you manage and minimize hazardous waste streams. Registration is required. \n \nHosted by the Nevada Business Environmental Program
URL:https://nevadasbdc.org/event/hazardous-waste-101-3/
LOCATION:Business and Industry Office Las Vegas\, 3300 W. Sahara Ave.\, Las Vegas\, NV\, 89102\, United States
CATEGORIES:Environmental,Resource Information
ORGANIZER;CN="Business Environmental Program - Kat Olson":MAILTO:katolson@unr.edu
GEO:36.1449758;-115.1860906
X-APPLE-STRUCTURED-LOCATION;VALUE=URI;X-ADDRESS=Business and Industry Office Las Vegas 3300 W. Sahara Ave. Las Vegas NV 89102 United States;X-APPLE-RADIUS=500;X-TITLE=3300 W. Sahara Ave.:geo:-115.1860906,36.1449758
END:VEVENT
END:VCALENDAR