BEGIN:VCALENDAR
VERSION:2.0
PRODID:-//Nevada SBDC - ECPv6.10.1//NONSGML v1.0//EN
CALSCALE:GREGORIAN
METHOD:PUBLISH
X-WR-CALNAME:Nevada SBDC
X-ORIGINAL-URL:https://nevadasbdc.org
X-WR-CALDESC:Events for Nevada SBDC
REFRESH-INTERVAL;VALUE=DURATION:PT1H
X-Robots-Tag:noindex
X-PUBLISHED-TTL:PT1H
BEGIN:VTIMEZONE
TZID:America/Los_Angeles
BEGIN:DAYLIGHT
TZOFFSETFROM:-0800
TZOFFSETTO:-0700
TZNAME:PDT
DTSTART:20250309T100000
END:DAYLIGHT
BEGIN:STANDARD
TZOFFSETFROM:-0700
TZOFFSETTO:-0800
TZNAME:PST
DTSTART:20251102T090000
END:STANDARD
END:VTIMEZONE
BEGIN:VEVENT
DTSTART;TZID=America/Los_Angeles:20250313T090000
DTEND;TZID=America/Los_Angeles:20250313T100000
DTSTAMP:20260423T195318
CREATED:20250214T200750Z
LAST-MODIFIED:20250214T203756Z
UID:10000723-1741856400-1741860000@nevadasbdc.org
SUMMARY:Debt-Free to Business-Savvy: Managing Debt While Starting Your Small Business
DESCRIPTION:In this webinar\, we’ll dive into effective strategies for managing and paying off debt while balancing the demands of starting and growing your small business. Learn actionable tips on budgeting\, prioritizing debt repayment\, and maintaining healthy cash flow to ensure both personal and business financial success. \nConrad Chow is the Program Manager of Nevada Money Mentors\, the financial wellness program at the University of Nevada\, Reno. With a passion for helping students gain financial literacy\, Conrad oversees the program’s operations and leads initiatives that promote financial well-being across campus. His expertise includes budgeting\, managing debt\, and helping students make informed financial decisions. Conrad is also the chair of the Asian Pacific Islander Affinity Group for faculty and staff at UNR. \n  \nThis training event is hosted by the Nevada SBDC for the State Small Business Credit Initiative. Upon registration\, you will receive an email requesting your signature on an additional privacy agreement. Please sign this agreement prior to your event date to avoid any disruption in registration.
URL:https://nevadasbdc.org/event/debt-free-to-business-savvy-managing-debt-while-starting-your-small-business/
LOCATION:ONLINE\, STATEWIDE\, NV\, United States
CATEGORIES:Accounting/Finance,Funding
ORGANIZER;CN="Kaitlyn Schwantes":MAILTO:kschwantes@unr.edu
GEO:38.8026097;-116.419389
END:VEVENT
END:VCALENDAR