BEGIN:VCALENDAR
VERSION:2.0
PRODID:-//Nevada SBDC - ECPv6.10.1//NONSGML v1.0//EN
CALSCALE:GREGORIAN
METHOD:PUBLISH
X-WR-CALNAME:Nevada SBDC
X-ORIGINAL-URL:https://nevadasbdc.org
X-WR-CALDESC:Events for Nevada SBDC
REFRESH-INTERVAL;VALUE=DURATION:PT1H
X-Robots-Tag:noindex
X-PUBLISHED-TTL:PT1H
BEGIN:VTIMEZONE
TZID:America/Los_Angeles
BEGIN:DAYLIGHT
TZOFFSETFROM:-0800
TZOFFSETTO:-0700
TZNAME:PDT
DTSTART:20250309T100000
END:DAYLIGHT
BEGIN:STANDARD
TZOFFSETFROM:-0700
TZOFFSETTO:-0800
TZNAME:PST
DTSTART:20251102T090000
END:STANDARD
END:VTIMEZONE
BEGIN:VEVENT
DTSTART;TZID=America/Los_Angeles:20250319T173000
DTEND;TZID=America/Los_Angeles:20250319T193000
DTSTAMP:20260423T195321
CREATED:20240221T233148Z
LAST-MODIFIED:20250310T231426Z
UID:10000631-1742405400-1742412600@nevadasbdc.org
SUMMARY:SBDC Day 2025 - Las Vegas
DESCRIPTION:Join us for Celebration of our Small Business Clients & Advisors! SBDC Day is a national celebration bringing together SBDC clients\, advisors\, and small business resources to mix\, mingle\, and learn. Come and grab some great local food & drink and learn about what the Small Business Development Center has to offer. The evening will feature an Award Ceremony recognizing outstanding small businesses and individuals who have demonstrated exceptional entrepreneurial spirit and growth. We will also be celebrating our 40th anniversary serving Nevada entrepreneurs! The event will provide an opportunity to connect with fellow business professionals\, share success stories\, and gain insights into the resources offered by the Nevada SBDC. This event is free and open to all small business owners\, entrepreneurs\, and supporters of economic growth in Nevada.
URL:https://nevadasbdc.org/event/sbdc-day-2025/
LOCATION:Bottega Exchange\, 6675 S. Tenaya Way #200\, Las Vegas\, NV\, 89113\, United States
CATEGORIES:Networking
ATTACH;FMTTYPE=image/jpeg:https://nevadasbdc.org/wp-content/uploads/2024/02/1-SBDC-Day-2025-THEME.jpg
ORGANIZER;CN="Lisa Tolliver":MAILTO:ltolliver@unr.edu
GEO:36.067024;-115.2520374
X-APPLE-STRUCTURED-LOCATION;VALUE=URI;X-ADDRESS=Bottega Exchange 6675 S. Tenaya Way #200 Las Vegas NV 89113 United States;X-APPLE-RADIUS=500;X-TITLE=6675 S. Tenaya Way #200:geo:-115.2520374,36.067024
END:VEVENT
END:VCALENDAR