BEGIN:VCALENDAR
VERSION:2.0
PRODID:-//Nevada SBDC - ECPv6.10.1//NONSGML v1.0//EN
CALSCALE:GREGORIAN
METHOD:PUBLISH
X-WR-CALNAME:Nevada SBDC
X-ORIGINAL-URL:https://nevadasbdc.org
X-WR-CALDESC:Events for Nevada SBDC
REFRESH-INTERVAL;VALUE=DURATION:PT1H
X-Robots-Tag:noindex
X-PUBLISHED-TTL:PT1H
BEGIN:VTIMEZONE
TZID:America/Los_Angeles
BEGIN:DAYLIGHT
TZOFFSETFROM:-0800
TZOFFSETTO:-0700
TZNAME:PDT
DTSTART:20250309T100000
END:DAYLIGHT
BEGIN:STANDARD
TZOFFSETFROM:-0700
TZOFFSETTO:-0800
TZNAME:PST
DTSTART:20251102T090000
END:STANDARD
END:VTIMEZONE
BEGIN:VEVENT
DTSTART;TZID=America/Los_Angeles:20250416T160000
DTEND;TZID=America/Los_Angeles:20250416T200000
DTSTAMP:20260423T175949
CREATED:20250308T001048Z
LAST-MODIFIED:20250312T204340Z
UID:10000728-1744819200-1744833600@nevadasbdc.org
SUMMARY:AI Pitch Competition
DESCRIPTION:Pitch Your AI Innovation & Win Up to $35K in Amazon Web Services (AWS) Partner Funding \nSponsored by AWS & PREDICTif Solutions | Hosted by SBDC Nevada  \nThe Nevada Small Business Development Center (SBDC)\, in partnership with AWS and PREDICTif Solutions\, invites small businesses to compete in an exclusive AI Pitch Competition on April 16\, 2025\, in Las Vegas. \nThis is your opportunity to showcase your AI vision in front of AWS leaders and industry experts\, with a chance to win up to $35K in AWS partner funding to bring your project to life. \nWhat’s at Stake?\n\nTotal funding of up to $35K to fuel your AI project\n\nHow It Works\n\nApply to Pitch– Up to 10 businesses will be selected. After submitting your RSVP\, you’ll receive a confirmation if your application is chosen.\nPublic Pitch Format– Each company will pitch on stage in front of a live audience and expert panel. Each pitch will be 10 minutes\, followed by a brief Q&A. Visual aids like PowerPoint may be used to support the presentation.  \nAI Use Case Requirement– Applicants must submit a 300-500 word synopsis outlining how they propose to use AI in their business. The more detailed and strategic\, the better your chances of being selected.\nNetworking Opportunity– After the competition\, engage with AWS and PREDICTif Solutions leaders to explore AI-driven business opportunities.\n\nWho Should Apply?\nThis competition is ideal for small businesses that: \n\nAre integrating AI-driven innovationinto their operations.\nNeed funding\, resources\, and expert supportto scale their AI vision.\nWant to connect with AI and AWS industry leadersto refine and implement AI strategies.\n\nWhy Participate?\n\nSecure funding & expert guidanceto implement AI in your business.\nExclusive opportunity to pitch directly to AWS & AI leaders.\nGain tailored feedback\, high-value pitch setting.\nNetwork with AWS and PREDICTif experts to explore AI-powered business growth.\n\nAbout the Hosts & Sponsors\n\nAWS(Amazon Web Services) is a global leader in cloud computing and AI innovation.\nPREDICTif Solutionsis an AWS Advanced Tier Partner with 17+ years of experience in AI/ML\, Generative AI\, Data Analytics\, and AWS cloud solutions.\nNevada SBDCprovides expert business guidance\, training\, and resources to help small businesses start\, grow\, and thrive.\n\nHow to Apply\nSubmit your RSVP through the form on this page.\nOnly selected applicants will receive confirmation to pitch. \n\nApplication Deadline:April 10\, 2025\nCompetition Date:April 16\, 2025\nLocation:Black Fire Innovation 8400 W Sunset Rd Suite 400\, Las Vegas\, NV 89113\n\nReady to showcase your AI innovation? Apply now! \n\n\n                \n                        Name(Required)\n                            \n                            \n                                                    First\n                                                    \n                                                \n                            \n                            \n                                                            Last\n                                                            \n                                                        \n                            \n                        Email(Required)\n                                \n                                    Enter Email\n                                    \n                                \n                                \n                                    Confirm Email\n                                    \n                                \n                                \n                            Phone(Required)300 - 500 word synopsis\n          \n            \n            \n            \n            \n            \n            \n            \n            \n            \n            \n            \n            \n            \n        \n                        Δ \n                        \n\n 
URL:https://nevadasbdc.org/event/ai-pitch-competition/
LOCATION:UNLV Black Fire Innovation\, 8400 W. Sunset Rd.\, Las Vegas\, NV\, 89113\, United States
GEO:36.0710118;-115.2751416
X-APPLE-STRUCTURED-LOCATION;VALUE=URI;X-ADDRESS=UNLV Black Fire Innovation 8400 W. Sunset Rd. Las Vegas NV 89113 United States;X-APPLE-RADIUS=500;X-TITLE=8400 W. Sunset Rd.:geo:-115.2751416,36.0710118
END:VEVENT
BEGIN:VEVENT
DTSTART;TZID=America/Los_Angeles:20250416T170000
DTEND;TZID=America/Los_Angeles:20250416T183000
DTSTAMP:20260423T175949
CREATED:20250307T213951Z
LAST-MODIFIED:20250307T213951Z
UID:10000726-1744822800-1744828200@nevadasbdc.org
SUMMARY:Construction 1.0 Workshop
DESCRIPTION:Join us\, in collaboration with UNLV’s Office of Economic Development\, and the Nevada State Contractors Board\, for a dynamic\, in-person\, 6-week course designed to guide you through the construction industry. Gain essential insights into crucial construction business topics and receive a step-by-step walkthrough of the Nevada State Contractors Board application process. This course offers a unique opportunity to connect with industry professionals\, access expert support\, and utilize resources to help you secure your contractor’s license. Don’t miss out on this chance to build a successful future in construction! \nWith over 25 years of experience in finance and banking\, I have spent several years supporting entrepreneurs\, particularly in the construction industry\, as they establish and expand their businesses. My deep industry knowledge\, combined with proficiency in Spanish and strong communication skills\, allows me to provide expert guidance on business formation and operations. Passionate about addressing the misinformation often faced by small businesses\, I am committed to educating entrepreneurs on effective strategies for success. \n\n\n\nSession #1\n2025-04-16\n5:00 PM\n– 6:30 PM (PDT)\n\n\n\nSession #2\n2025-04-23\n5:00 PM\n– 6:30 PM (PDT)\n\n\n\nSession #3\n2025-04-30\n5:00 PM\n– 6:30 PM (PDT)\n\n\n\nSession #4\n2025-05-07\n5:00 PM\n– 6:30 PM (PDT)\n\n\n\nSession #5\n2025-05-14\n5:00 PM\n– 6:30 PM (PDT)\n\n\n\nSession #6\n2025-05-21\n5:00 PM\n– 6:30 PM (PDT)\n\n\n\n 
URL:https://nevadasbdc.org/event/construction-1-0-workshop-6/
LOCATION:8400 W. Sunset Rd #300\, 8400 W Sunset Rd #300\, Las Vegas\, NV\, 89113\, United States
CATEGORIES:Resource Information,Starting a Business
ORGANIZER;CN="Nevada SBDC":MAILTO:training@nevadasbdc.org
GEO:36.0712818;-115.2754368
X-APPLE-STRUCTURED-LOCATION;VALUE=URI;X-ADDRESS=8400 W. Sunset Rd #300 8400 W Sunset Rd #300 Las Vegas NV 89113 United States;X-APPLE-RADIUS=500;X-TITLE=8400 W Sunset Rd #300:geo:-115.2754368,36.0712818
END:VEVENT
END:VCALENDAR