BEGIN:VCALENDAR
VERSION:2.0
PRODID:-//Nevada SBDC - ECPv6.10.1//NONSGML v1.0//EN
CALSCALE:GREGORIAN
METHOD:PUBLISH
X-ORIGINAL-URL:https://nevadasbdc.org
X-WR-CALDESC:Events for Nevada SBDC
REFRESH-INTERVAL;VALUE=DURATION:PT1H
X-Robots-Tag:noindex
X-PUBLISHED-TTL:PT1H
BEGIN:VTIMEZONE
TZID:America/Los_Angeles
BEGIN:DAYLIGHT
TZOFFSETFROM:-0800
TZOFFSETTO:-0700
TZNAME:PDT
DTSTART:20250309T100000
END:DAYLIGHT
BEGIN:STANDARD
TZOFFSETFROM:-0700
TZOFFSETTO:-0800
TZNAME:PST
DTSTART:20251102T090000
END:STANDARD
END:VTIMEZONE
BEGIN:VEVENT
DTSTART;TZID=America/Los_Angeles:20250514T130000
DTEND;TZID=America/Los_Angeles:20250514T143000
DTSTAMP:20260425T052010
CREATED:20250422T210408Z
LAST-MODIFIED:20250422T210408Z
UID:10000735-1747227600-1747233000@nevadasbdc.org
SUMMARY:Credit 101: Building Strong Credit for Personal and Business Success
DESCRIPTION:Understanding credit is essential for both personal financial health and business growth. Join us for Credit 101\, an interactive panel event designed to demystify credit\, empower you with practical strategies\, and answer your most pressing questions. \nOur expert panelists will walk you through: \n\n       The foundations of credit\, including the 5 Cs of credit and updates to the credit scoring system\n       Personal credit: how to build it\, repair it\, and leverage it for business success\n       Business credit: why it matters\, how it works\, and how to establish and maintain it\n       The interconnectedness of personal and business credit\n       Real-world insights on common credit challenges\, rejections\, success stories\, and strategies for making credit work for you\n\nModerator: Kelli Kelly \nPanelists: Cydney Reid\, Dereck Barrett\, Josh Dunlap \nLocation: UNR Innevation Center – Concept Café \nRefreshments Provided: Coffee\, tea\, and water \nWhether you’re an entrepreneur\, aspiring business owner\, or simply want to better understand your financial tools\, this session will equip you with the knowledge to take control of your credit future. \n**Your information will be shared with the University of Nevada\, Reno Innevation Center and U.S. Bank for this event.**
URL:https://nevadasbdc.org/event/credit-101-building-strong-credit-for-personal-and-business-success/
LOCATION:Innevation Center\, 450 Sinclair Street\, Reno\, NV\, 89501\, United States
CATEGORIES:Accounting/Finance,Funding
ORGANIZER;CN="Nevada SBDC":MAILTO:training@nevadasbdc.org
GEO:39.5220337;-119.8080639
X-APPLE-STRUCTURED-LOCATION;VALUE=URI;X-ADDRESS=Innevation Center 450 Sinclair Street Reno NV 89501 United States;X-APPLE-RADIUS=500;X-TITLE=450 Sinclair Street:geo:-119.8080639,39.5220337
END:VEVENT
END:VCALENDAR