BEGIN:VCALENDAR
VERSION:2.0
PRODID:-//Nevada SBDC - ECPv6.10.1//NONSGML v1.0//EN
CALSCALE:GREGORIAN
METHOD:PUBLISH
X-WR-CALNAME:Nevada SBDC
X-ORIGINAL-URL:https://nevadasbdc.org
X-WR-CALDESC:Events for Nevada SBDC
REFRESH-INTERVAL;VALUE=DURATION:PT1H
X-Robots-Tag:noindex
X-PUBLISHED-TTL:PT1H
BEGIN:VTIMEZONE
TZID:America/Los_Angeles
BEGIN:DAYLIGHT
TZOFFSETFROM:-0800
TZOFFSETTO:-0700
TZNAME:PDT
DTSTART:20250309T100000
END:DAYLIGHT
BEGIN:STANDARD
TZOFFSETFROM:-0700
TZOFFSETTO:-0800
TZNAME:PST
DTSTART:20251102T090000
END:STANDARD
END:VTIMEZONE
BEGIN:VEVENT
DTSTART;TZID=America/Los_Angeles:20250624T170000
DTEND;TZID=America/Los_Angeles:20250624T183000
DTSTAMP:20260423T122855
CREATED:20250422T212908Z
LAST-MODIFIED:20250422T214803Z
UID:10000736-1750784400-1750789800@nevadasbdc.org
SUMMARY:Construction 1.0
DESCRIPTION:Join the Nevada SBDC\, in collaboration with UNLV’s Office of Economic Development\, and the Nevada State Contractors Board\, for a dynamic\, in-person\, 6-week course designed to guide you through the construction industry. Gain essential insights into crucial construction business topics and receive a step-by-step walkthrough of the Nevada State Contractors Board application process. This course offers a unique opportunity to connect with industry professionals\, access expert support\, and utilize resources to help you secure your contractor’s license. Don’t miss out on this chance to build a successful future in construction! \n  \nWith over 25 years of experience in finance and banking\, I have spent several years supporting entrepreneurs\, particularly in the construction industry\, as they establish and expand their businesses. My deep industry knowledge\, combined with proficiency in Spanish and strong communication skills\, allows me to provide expert guidance on business formation and operations. Passionate about addressing the misinformation often faced by small businesses\, I am committed to educating entrepreneurs on effective strategies for success. \n\n\n\nSession #1\n2025-06-24\n5:00 PM\n– 6:30 PM (PDT)\n\n\n\nSession #2\n2025-07-01\n5:00 PM\n– 6:30 PM (PDT)\n\n\n\nSession #3\n2025-07-08\n5:00 PM\n– 6:30 PM (PDT)\n\n\n\nSession #4\n2025-07-15\n5:00 PM\n– 6:30 PM (PDT)\n\n\n\nSession #5\n2025-07-22\n5:00 PM\n– 6:30 PM (PDT)\n\n\n\nSession #6\n2025-07-29\n5:00 PM\n– 6:30 PM (PDT)
URL:https://nevadasbdc.org/event/construction-1-0/
LOCATION:Innevation Center\, 450 Sinclair Street\, Reno\, NV\, 89501\, United States
CATEGORIES:Resource Information
ORGANIZER;CN="Albert Delgado":MAILTO:albert.delgado@unlv.edu
GEO:39.5220337;-119.8080639
X-APPLE-STRUCTURED-LOCATION;VALUE=URI;X-ADDRESS=Innevation Center 450 Sinclair Street Reno NV 89501 United States;X-APPLE-RADIUS=500;X-TITLE=450 Sinclair Street:geo:-119.8080639,39.5220337
END:VEVENT
END:VCALENDAR