BEGIN:VCALENDAR
VERSION:2.0
PRODID:-//Nevada SBDC - ECPv6.10.1//NONSGML v1.0//EN
CALSCALE:GREGORIAN
METHOD:PUBLISH
X-WR-CALNAME:Nevada SBDC
X-ORIGINAL-URL:https://nevadasbdc.org
X-WR-CALDESC:Events for Nevada SBDC
REFRESH-INTERVAL;VALUE=DURATION:PT1H
X-Robots-Tag:noindex
X-PUBLISHED-TTL:PT1H
BEGIN:VTIMEZONE
TZID:America/Los_Angeles
BEGIN:DAYLIGHT
TZOFFSETFROM:-0800
TZOFFSETTO:-0700
TZNAME:PDT
DTSTART:20260308T100000
END:DAYLIGHT
BEGIN:STANDARD
TZOFFSETFROM:-0700
TZOFFSETTO:-0800
TZNAME:PST
DTSTART:20261101T090000
END:STANDARD
END:VTIMEZONE
BEGIN:VEVENT
DTSTART;TZID=America/Los_Angeles:20260511T100000
DTEND;TZID=America/Los_Angeles:20260511T110000
DTSTAMP:20260423T084253
CREATED:20260416T223259Z
LAST-MODIFIED:20260416T223259Z
UID:10000864-1778493600-1778497200@nevadasbdc.org
SUMMARY:Make It Real: How to Fund\, Launch & Get Paid
DESCRIPTION:Interested in learning how to make money moves for your business? This training workshop will cover how to identify and access funding opportunities\, prepare for a successful business launch\, and set up pricing strategies and systems. You will learn how to take actionable steps to start generating income. \nRachel Gomez joins Nevada SBDC with 20 years of experience in executive recruitment\, corporate talent acquisition\, HR Consulting\, and as a small business owner. Her most recent experiences have been in supporting our Las Vegas small business community. She has worked on a national level with consumer brand leaders\, non-profit organizations\, and in the arts and entertainment industry. As a small business owner for over 14 years\, Rachel understands the necessary planning required to stay in compliance and strategize for growth\, while utilizing modern technology to streamline processes\, increase productivity and expand on branding and marketing efforts. \nThis event is co-sponsored by Nevada State Bank.
URL:https://nevadasbdc.org/event/make-it-real-how-to-fund-launch-get-paid/
LOCATION:8400 W. Sunset Rd #300\, 8400 W Sunset Rd #300\, Las Vegas\, NV\, 89113\, United States
CATEGORIES:Accounting/Finance
ORGANIZER;CN="Albert Delgado":MAILTO:albert.delgado@unlv.edu
GEO:36.0712818;-115.2754368
X-APPLE-STRUCTURED-LOCATION;VALUE=URI;X-ADDRESS=8400 W. Sunset Rd #300 8400 W Sunset Rd #300 Las Vegas NV 89113 United States;X-APPLE-RADIUS=500;X-TITLE=8400 W Sunset Rd #300:geo:-115.2754368,36.0712818
END:VEVENT
BEGIN:VEVENT
DTSTART;TZID=America/Los_Angeles:20260521T103000
DTEND;TZID=America/Los_Angeles:20260521T113000
DTSTAMP:20260423T084253
CREATED:20260331T200140Z
LAST-MODIFIED:20260331T200140Z
UID:10000854-1779359400-1779363000@nevadasbdc.org
SUMMARY:SBRC | Building Business Credit
DESCRIPTION:Learn how to establish and strengthen business credit to better position your company for financing\, growth\, and vendor relationships. This session covers what lenders look for\, common pitfalls to avoid\, and steps you can take right away.
URL:https://nevadasbdc.org/event/sbrc-building-business-credit/
LOCATION:Vegas Chamber\, 70 E. Bonneville Ave\, Las Vegas\, 89101\, United States
CATEGORIES:Accounting/Finance
ORGANIZER;CN="Nevada SBDC":MAILTO:training@nevadasbdc.org
GEO:36.1662928;-115.149209
X-APPLE-STRUCTURED-LOCATION;VALUE=URI;X-ADDRESS=Vegas Chamber 70 E. Bonneville Ave Las Vegas 89101 United States;X-APPLE-RADIUS=500;X-TITLE=70 E. Bonneville Ave:geo:-115.149209,36.1662928
END:VEVENT
BEGIN:VEVENT
DTSTART;TZID=America/Los_Angeles:20260611T103000
DTEND;TZID=America/Los_Angeles:20260611T113000
DTSTAMP:20260423T084253
CREATED:20260331T201514Z
LAST-MODIFIED:20260331T201514Z
UID:10000856-1781173800-1781177400@nevadasbdc.org
SUMMARY:Time To Find Your Dream BAIL Team - Panel Discussion with a Banker\, Accountant\, Insurance Agent\, and Legal Team
DESCRIPTION:Training Description: Building on December’s Build Your Dream Team masterclass\, this panel discussion takes a deeper dive into the key advisors every growing business needs: a Banker\, Accountant\, Insurance Agent\, and Legal team. Learn when to engage each expert\, what questions to ask\, and how a strong BAIL team helps you grow strategically while protecting your business.
URL:https://nevadasbdc.org/event/time-to-find-your-dream-bail-team-panel-discussion-with-a-banker-accountant-insurance-agent-and-legal-team/
LOCATION:Vegas Chamber\, 70 E. Bonneville Ave\, Las Vegas\, 89101\, United States
CATEGORIES:Accounting/Finance,Legal
ORGANIZER;CN="Nevada SBDC":MAILTO:training@nevadasbdc.org
GEO:36.1662928;-115.149209
X-APPLE-STRUCTURED-LOCATION;VALUE=URI;X-ADDRESS=Vegas Chamber 70 E. Bonneville Ave Las Vegas 89101 United States;X-APPLE-RADIUS=500;X-TITLE=70 E. Bonneville Ave:geo:-115.149209,36.1662928
END:VEVENT
END:VCALENDAR