BEGIN:VCALENDAR
VERSION:2.0
PRODID:-//Nevada SBDC - ECPv6.10.1//NONSGML v1.0//EN
CALSCALE:GREGORIAN
METHOD:PUBLISH
X-WR-CALNAME:Nevada SBDC
X-ORIGINAL-URL:https://nevadasbdc.org
X-WR-CALDESC:Events for Nevada SBDC
REFRESH-INTERVAL;VALUE=DURATION:PT1H
X-Robots-Tag:noindex
X-PUBLISHED-TTL:PT1H
BEGIN:VTIMEZONE
TZID:America/Los_Angeles
BEGIN:DAYLIGHT
TZOFFSETFROM:-0800
TZOFFSETTO:-0700
TZNAME:PDT
DTSTART:20250309T100000
END:DAYLIGHT
BEGIN:STANDARD
TZOFFSETFROM:-0700
TZOFFSETTO:-0800
TZNAME:PST
DTSTART:20251102T090000
END:STANDARD
END:VTIMEZONE
BEGIN:VEVENT
DTSTART;TZID=America/Los_Angeles:20250910T173000
DTEND;TZID=America/Los_Angeles:20250910T203000
DTSTAMP:20260425T052222
CREATED:20250815T170617Z
LAST-MODIFIED:20250815T170617Z
UID:10000773-1757525400-1757536200@nevadasbdc.org
SUMMARY:Sell Smarter Online through Strategy\, Competition\, & Pricing Essentials
DESCRIPTION:Turn your e-commerce vision into an online shop opportunity in this 6-hour training. You’ll learn how to conduct market research that uncovers profitable opportunities\, analyze potential competitors to identify your edge\, and build a market strategy that attracts your ideal customers. We’ll identify the operational considerations  for running a smooth online store and teach you how to set prices. By the end\, you’ll have a clear\, actionable plan to position your business online\, like on Made in Nevada\, for growth and the know-how to outshine your competition. \n  \nKathy Halbardier has over 25 years of experience in small business development as a highly successful entrepreneur as well as a sought-after advisor and trainer by those in all stages of business ownership. Her areas of expertise include business plan counseling\, marketing\, strategic planning\, economic development and business education and training. With over 10 years in banking and other types of financial institutions\, Kathy has assisted businesses in financial planning and access to capital through alternative lending sources. Kathy serves as a part-time business advisor and trainer for the Nevada SBDC primarily in Douglas County\, Carson City and surrounding areas. \n  \nKelli Kelly once sailed away on a tallship\, cooked on dive boats in the Bahamas\, worked her way up through corporate coffee\, and ultimately earned an Associate’s in the Culinary Arts and a Bachelor’s in Organization and Project Management. After moving to Fallon\, Nevada\, Kelli found her calling in local and regional food systems while working at a farm-to-table restaurant. She was inspired to work with local farmers\, ranchers\, and value-added producers to promote sustainable agriculture and advocate for eating seasonally and within the foodshed. Kelli serves as the Agriculture and Food Systems Business Advisor for the Nevada Small Business Development Center housed at the Churchill Entrepreneur Development Association and is pursuing a Master’s Degree in Urban Leadership at the University of Nevada\, Las Vegas.  Kelli is an avid reader\, a policy wonk\, a slurper of dumplings\, and a proud “person of the bean”\n\n\n\n2024 Nevada Small Business Development Center State Star\n\n\nPresident/Vice President/Secretary\, Emerge NV\n\n\nMember\, Governor’s Council for Food Security\n\n\n2019-2020 Chair\, Nevada Farms Conference\n\n\nMember\, NevadaGrown Board of Directors\n\n\nMember\, Western Nevada College–Specialty Crop Institute Advisory Committee\n\n\nMember\, Northern Nevada Food Security Coalition\n\n\nMember\, Churchill County School District Career & Technical Education Advisory Committee\n\n\nMember\, Fallon Youth Club Board of Directors\n\n\n 
URL:https://nevadasbdc.org/event/sell-smarter-online-through-strategy-competition-pricing-essentials/
LOCATION:ONLINE\, STATEWIDE\, NV\, United States
CATEGORIES:Digital Marketing,Webinar
ORGANIZER;CN="Nevada SBDC":MAILTO:training@nevadasbdc.org
GEO:38.8026097;-116.419389
END:VEVENT
END:VCALENDAR