BEGIN:VCALENDAR
VERSION:2.0
PRODID:-//Nevada SBDC - ECPv6.10.1//NONSGML v1.0//EN
CALSCALE:GREGORIAN
METHOD:PUBLISH
X-ORIGINAL-URL:https://nevadasbdc.org
X-WR-CALDESC:Events for Nevada SBDC
REFRESH-INTERVAL;VALUE=DURATION:PT1H
X-Robots-Tag:noindex
X-PUBLISHED-TTL:PT1H
BEGIN:VTIMEZONE
TZID:America/Los_Angeles
BEGIN:DAYLIGHT
TZOFFSETFROM:-0800
TZOFFSETTO:-0700
TZNAME:PDT
DTSTART:20260308T100000
END:DAYLIGHT
BEGIN:STANDARD
TZOFFSETFROM:-0700
TZOFFSETTO:-0800
TZNAME:PST
DTSTART:20261101T090000
END:STANDARD
END:VTIMEZONE
BEGIN:VEVENT
DTSTART;TZID=America/Los_Angeles:20260122T100000
DTEND;TZID=America/Los_Angeles:20260122T113000
DTSTAMP:20260421T075157
CREATED:20260106T183735Z
LAST-MODIFIED:20260106T183735Z
UID:10000831-1769076000-1769081400@nevadasbdc.org
SUMMARY:Lessons from a Success Story
DESCRIPTION:When Carami came to Nevada SBDC at UNLV several years ago\, all she had was an idea and the drive to bring it to life. Since then\, she has built her cornerstone products\, launched her business\, gotten her products into retail stores\, and won an entrepreneurship award. \nIf you’re a new business just starting out or an existing business looking for growth\, join us for this event and receive valuable insights\, motivation\, and connection with other entrepreneurs. Hear it from a successful entrepreneur – your dream is achievable! \n  \nPilula™ Founder\, Carami Olsen\, has taken supplements in many forms since childhood. Born to a mother on a health quest\, since long before it was trending\, Carami was taught to appreciate the results of supplementing what food does not provide. Well educated on the health and wellness of the human body\, this early influence on our founder ultimately led to the creation of a beautiful pill box option and development of the Pilula Pod and the Pilula Track App. Carami maintains the belief in a limitless quality of life and feeling good everyday\, which Pilula™ supports with simplified regiments\, secure contents\, and confidence to continue your life without disruption.
URL:https://nevadasbdc.org/event/lessons-from-a-success-story/
LOCATION:8400 W. Sunset Rd #300\, 8400 W Sunset Rd #300\, Las Vegas\, NV\, 89113\, United States
CATEGORIES:Business Planning,Buying or Selling a Business,Digital Marketing,Starting a Business
ORGANIZER;CN="Albert Delgado":MAILTO:albert.delgado@unlv.edu
GEO:36.0712818;-115.2754368
X-APPLE-STRUCTURED-LOCATION;VALUE=URI;X-ADDRESS=8400 W. Sunset Rd #300 8400 W Sunset Rd #300 Las Vegas NV 89113 United States;X-APPLE-RADIUS=500;X-TITLE=8400 W Sunset Rd #300:geo:-115.2754368,36.0712818
END:VEVENT
END:VCALENDAR