BEGIN:VCALENDAR
VERSION:2.0
PRODID:-//Nevada SBDC - ECPv6.10.1//NONSGML v1.0//EN
CALSCALE:GREGORIAN
METHOD:PUBLISH
X-ORIGINAL-URL:https://nevadasbdc.org
X-WR-CALDESC:Events for Nevada SBDC
REFRESH-INTERVAL;VALUE=DURATION:PT1H
X-Robots-Tag:noindex
X-PUBLISHED-TTL:PT1H
BEGIN:VTIMEZONE
TZID:America/Los_Angeles
BEGIN:DAYLIGHT
TZOFFSETFROM:-0800
TZOFFSETTO:-0700
TZNAME:PDT
DTSTART:20230312T100000
END:DAYLIGHT
BEGIN:STANDARD
TZOFFSETFROM:-0700
TZOFFSETTO:-0800
TZNAME:PST
DTSTART:20231105T090000
END:STANDARD
END:VTIMEZONE
BEGIN:VEVENT
DTSTART;TZID=America/Los_Angeles:20230823T173000
DTEND;TZID=America/Los_Angeles:20230823T203000
DTSTAMP:20260424T211232
CREATED:20230718T203746Z
LAST-MODIFIED:20230822T222441Z
UID:10000571-1692811800-1692822600@nevadasbdc.org
SUMMARY:NxLeveL - Eleva tu Éxito creciendo tu Potencial Empresarial
DESCRIPTION:El Programa NxLevel es la guía definitiva para la planificación y éxito de tu negocio. Desde la conceptualización hasta el crecimiento y lanzamiento\, cubrimos todas las fases con teoría sólida\, presentaciones dinámicas\, asesoría personalizada y conexiones estratégicas. Nuestro programa abarca desde la definición precisa de tu negocio hasta su mejora\, expansión y lanzamiento. Las clases incluyen temas fundamentales como publicidad\, estrategias en redes sociales y negociaciones\, junto con una comprensión detallada de los informes financieros y una gestión eficiente de tu empresa. \nCada semana\, nuestra clase se enriquece con la participación de invitados especiales que son expertos en distintas áreas empresariales\, como abogados\, banqueros\, contadores y exitosos dueños de negocios. Ellos compartirán su valiosa experiencia\, proporcionándote una visión integral y práctica. A través de investigaciones y redacción de un plan de negocios completo\, perfeccionarás tus conocimientos empresariales y adquirirás las habilidades necesarias para el pensamiento crítico y el desarrollo de estrategias clave en tu negocio. \n\n\n\nSession #1\n8/23/2023\n5:30 PM\n– 8:30 PM (PDT)\n\n\n\nSession #2\n8/30/2023\n5:30 PM\n– 8:30 PM (PDT)\n\n\n\nSession #3\n9/6/2023\n5:30 PM\n– 8:30 PM (PDT)\n\n\n\nSession #4\n9/13/2023\n5:30 PM\n– 8:30 PM (PDT)\n\n\n\nSession #5\n9/20/2023\n5:30 PM\n– 8:30 PM (PDT)\n\n\n\nSession #6\n9/27/2023\n5:30 PM\n– 8:30 PM (PDT)\n\n\n\nSession #7\n10/4/2023\n5:30 PM\n– 8:30 PM (PDT)\n\n\n\nSession #8\n10/11/2023\n5:30 PM\n– 8:30 PM (PDT)\n\n\n\nSession #9\n10/25/2023\n5:30 PM\n– 8:30 PM (PDT)\n\n\n\nSession #10\n11/1/2023\n5:30 PM\n– 8:30 PM (PDT)\n\n\n\nAnabel Navarro\, una empresaria y profesional de los negocios\, ha llamado con orgullo a Las Vegas su hogar durante 28 años. Con impresionantes 32 años de experiencia empresarial en diversas industrias\, se ha establecido como una figura destacada en la comunidad empresarial. Actualmente\, Anabel se desempeña como Asesora de Negocios y Gerente Regional del Sur de NV en el Centro de Desarrollo de Pequeñas Empresas de Nevada (NevadaSBDC)\, donde ha sido un miembro invaluable desde 2014. Es experta en creación de pequeñas empresas\, planes de negocios\, gestión comercial\, marketing y análisis financiero. \nLa Sra. Navarro cuenta con una sólida formación académica\, habiendo obtenido una licenciatura en Educación Física. Anteriormente\, fue propietaria de un exitoso gimnasio en su ciudad natal\, Guadalajara\, México. Tras su traslado al área de Las Vegas\, ha demostrado su espíritu emprendedor al establecer varios negocios minoristas\, incluyendo una tienda de computadoras\, una tienda de celulares\, una joyería y tiendas de accesorios para mujeres. \nLa Sra. Navarro disfruta trabajar con pequeñas empresas\, propiedad de minorías y Mujeres\, empoderando el espíritu empresarial a través de capacitación y participación en charlas; ayudando a los emprendedores y propietarios de pequeñas empresas en su búsqueda de éxito. \n  \nThis course is sponsored by Bank of Nevada. \n \nThe Nevada SBDC is funded in part through a Cooperative Agreement with the U.S. Small Business Administration.
URL:https://nevadasbdc.org/event/nxlevel-crece-tu-potencial-empresarial-y-eleva-tu-exito/
LOCATION:Business and Industry Office Las Vegas\, 3300 W. Sahara Ave.\, Las Vegas\, NV\, 89102\, United States
CATEGORIES:Accounting/Finance,Business Planning,Marketing/Sales,Operations,Social Media
ORGANIZER;CN="Nevada SBDC":MAILTO:training@nevadasbdc.org
GEO:36.1449758;-115.1860906
X-APPLE-STRUCTURED-LOCATION;VALUE=URI;X-ADDRESS=Business and Industry Office Las Vegas 3300 W. Sahara Ave. Las Vegas NV 89102 United States;X-APPLE-RADIUS=500;X-TITLE=3300 W. Sahara Ave.:geo:-115.1860906,36.1449758
END:VEVENT
END:VCALENDAR