BEGIN:VCALENDAR
VERSION:2.0
PRODID:-//Nevada SBDC - ECPv6.10.1//NONSGML v1.0//EN
CALSCALE:GREGORIAN
METHOD:PUBLISH
X-WR-CALNAME:Nevada SBDC
X-ORIGINAL-URL:https://nevadasbdc.org
X-WR-CALDESC:Events for Nevada SBDC
REFRESH-INTERVAL;VALUE=DURATION:PT1H
X-Robots-Tag:noindex
X-PUBLISHED-TTL:PT1H
BEGIN:VTIMEZONE
TZID:America/Los_Angeles
BEGIN:DAYLIGHT
TZOFFSETFROM:-0800
TZOFFSETTO:-0700
TZNAME:PDT
DTSTART:20260308T100000
END:DAYLIGHT
BEGIN:STANDARD
TZOFFSETFROM:-0700
TZOFFSETTO:-0800
TZNAME:PST
DTSTART:20261101T090000
END:STANDARD
END:VTIMEZONE
BEGIN:VEVENT
DTSTART;TZID=America/Los_Angeles:20260505T150000
DTEND;TZID=America/Los_Angeles:20260505T170000
DTSTAMP:20260421T140440
CREATED:20260331T200344Z
LAST-MODIFIED:20260331T200344Z
UID:10000855-1777993200-1778000400@nevadasbdc.org
SUMMARY:SBRC | Business Breakthroughs: Speed Advising & Networking
DESCRIPTION:Celebrate Small Business Week at the Vegas Chamber! Connect with trusted small business experts through fast-paced\, one-on-one advising sessions designed to help you break through common business challenges. Stay after to network with fellow business owners and resource partners.
URL:https://nevadasbdc.org/event/sbrc-business-breakthroughs-speed-advising-networking/
LOCATION:Vegas Chamber\, 70 E. Bonneville Ave\, Las Vegas\, 89101\, United States
CATEGORIES:Networking,Resource Information
ORGANIZER;CN="Nevada SBDC":MAILTO:training@nevadasbdc.org
GEO:36.1662928;-115.149209
X-APPLE-STRUCTURED-LOCATION;VALUE=URI;X-ADDRESS=Vegas Chamber 70 E. Bonneville Ave Las Vegas 89101 United States;X-APPLE-RADIUS=500;X-TITLE=70 E. Bonneville Ave:geo:-115.149209,36.1662928
END:VEVENT
END:VCALENDAR