BEGIN:VCALENDAR
VERSION:2.0
PRODID:-//Nevada SBDC - ECPv6.10.1//NONSGML v1.0//EN
CALSCALE:GREGORIAN
METHOD:PUBLISH
X-WR-CALNAME:Nevada SBDC
X-ORIGINAL-URL:https://nevadasbdc.org
X-WR-CALDESC:Events for Nevada SBDC
REFRESH-INTERVAL;VALUE=DURATION:PT1H
X-Robots-Tag:noindex
X-PUBLISHED-TTL:PT1H
BEGIN:VTIMEZONE
TZID:America/Los_Angeles
BEGIN:DAYLIGHT
TZOFFSETFROM:-0800
TZOFFSETTO:-0700
TZNAME:PDT
DTSTART:20210314T100000
END:DAYLIGHT
BEGIN:STANDARD
TZOFFSETFROM:-0700
TZOFFSETTO:-0800
TZNAME:PST
DTSTART:20211107T090000
END:STANDARD
BEGIN:DAYLIGHT
TZOFFSETFROM:-0800
TZOFFSETTO:-0700
TZNAME:PDT
DTSTART:20220313T100000
END:DAYLIGHT
BEGIN:STANDARD
TZOFFSETFROM:-0700
TZOFFSETTO:-0800
TZNAME:PST
DTSTART:20221106T090000
END:STANDARD
BEGIN:DAYLIGHT
TZOFFSETFROM:-0800
TZOFFSETTO:-0700
TZNAME:PDT
DTSTART:20230312T100000
END:DAYLIGHT
BEGIN:STANDARD
TZOFFSETFROM:-0700
TZOFFSETTO:-0800
TZNAME:PST
DTSTART:20231105T090000
END:STANDARD
BEGIN:DAYLIGHT
TZOFFSETFROM:-0800
TZOFFSETTO:-0700
TZNAME:PDT
DTSTART:20240310T100000
END:DAYLIGHT
BEGIN:STANDARD
TZOFFSETFROM:-0700
TZOFFSETTO:-0800
TZNAME:PST
DTSTART:20241103T090000
END:STANDARD
BEGIN:DAYLIGHT
TZOFFSETFROM:-0800
TZOFFSETTO:-0700
TZNAME:PDT
DTSTART:20250309T100000
END:DAYLIGHT
BEGIN:STANDARD
TZOFFSETFROM:-0700
TZOFFSETTO:-0800
TZNAME:PST
DTSTART:20251102T090000
END:STANDARD
BEGIN:DAYLIGHT
TZOFFSETFROM:-0800
TZOFFSETTO:-0700
TZNAME:PDT
DTSTART:20260308T100000
END:DAYLIGHT
BEGIN:STANDARD
TZOFFSETFROM:-0700
TZOFFSETTO:-0800
TZNAME:PST
DTSTART:20261101T090000
END:STANDARD
END:VTIMEZONE
BEGIN:VEVENT
DTSTART;TZID=America/Los_Angeles:20210127T130000
DTEND;TZID=America/Los_Angeles:20210127T140000
DTSTAMP:20260424T045509
CREATED:20201216T184557Z
LAST-MODIFIED:20201216T193452Z
UID:10000057-1611752400-1611756000@nevadasbdc.org
SUMMARY:Tax Implications of CARES Funding for Businesses
DESCRIPTION:Tax season is upon us! Have you received PPP\, EIDL\, PETS\, CRAG\, NACO rural grants\, and/or other grants that you are unsure how to report? Join us for a webinar led by Tim Nelson\, CPA\, CVA\, CFE\, President of Evans\, Nelson\, & Company\, CPAs how to identify and report grants and loans on your tax documents correctly and how to know when you may need a CPAs assistance. \nTim Nelson is the Managing Partner and owner of Evans\, Nelson\, & Company. He wore many hats before deciding to serve the northern Nevada community. He has served as the CFO\, CEO\, President\, and other levels of an executive for many companies\, including a casino-gaming establishment\, a high-tech NASDAQ company\, and a frozen fruit company that was sold to Dole. Later\, he ran an insurance and financial services group of companies before working as an executive for a private equity company.  After his various adventures\, he returned to northern Nevada with the goal of using the skills he learned in order to assist small Nevada companies to build and improve their businesses. \n \n  \nFunded in part through a Cooperative Agreement with the U.S. Small Business Administration.
URL:https://nevadasbdc.org/event/tax-implications-of-cares-funding-for-businesses/
LOCATION:ONLINE\, STATEWIDE\, NV\, United States
CATEGORIES:Disaster Relief,Taxes,Webinar
ORGANIZER;CN="Nevada SBDC":MAILTO:training@nevadasbdc.org
GEO:38.8026097;-116.419389
END:VEVENT
BEGIN:VEVENT
DTSTART;TZID=America/Los_Angeles:20210506T110000
DTEND;TZID=America/Los_Angeles:20210506T130000
DTSTAMP:20260424T045509
CREATED:20210402T212702Z
LAST-MODIFIED:20210402T212702Z
UID:10000358-1620298800-1620306000@nevadasbdc.org
SUMMARY:Hearing All Voices: Small Business Workshop & Listening Session
DESCRIPTION:Small Business Essentials: Hear from IRS on\nestimated taxes\, self-employment tax\, withholding\ntools for employers and more.\nInteracting with IRS: Hear about examination and\ncollection processes.\nBeing an Employer 101: Get an overview of\nemployment taxes (employee vs. independent\ncontractor rules and the Trust Fund Recovery\nPenalty.\nAppeals: Hear about appeals fast track settlement\nprogram\, collection due process and much more.\nTaxpayer First Act: Give your input on how the\nIRS can improve service to small business owners. \nDATE: \nThursday\, May 6\, 2021\n11:00am – 1:00pm PDT\n12:00pm – 2:00pm MDT \nAfter registering\, you will receive a confirmation email containing information about joining themeeting. We look forward to you joining us! \n\nTrouble registering? Please email us at: SL.Western.LosAngeles@irs.gov with your name\, email\, city and state. \n\nAlso\, learn about resources for small businesses from our Partners!
URL:https://nevadasbdc.org/event/hearing-all-voices-small-business-workshop-listening-session/
LOCATION:ONLINE\, STATEWIDE\, NV\, United States
CATEGORIES:Taxes,Webinar
GEO:38.8026097;-116.419389
END:VEVENT
BEGIN:VEVENT
DTSTART;TZID=America/Los_Angeles:20210921T180000
DTEND;TZID=America/Los_Angeles:20210921T193000
DTSTAMP:20260424T045509
CREATED:20210817T190000Z
LAST-MODIFIED:20210817T190000Z
UID:10000148-1632247200-1632252600@nevadasbdc.org
SUMMARY:You and Your Uncle Sam Tax Implications of Business Types
DESCRIPTION:This training event is hosted by Northern Nevada SCORE. \nLearn the legal obligations to report your business income and expenses. What records are required and which expenses are and are not deductible? \nWhat are the rules for: \n\nDeducting various business expenses\, such as business meals\nHome office expenses and auto expenses\, as well as the record keeping requirements for each.\nVarious ways to keep your records.\nThe difference between CPAs and EAs (Enrolled Agents)\nWhy an EA may be the right choice for you.\n\nCompare the tax advantages and disadvantages of various entity types: Sole Proprietorship\, LLC\, Partnership and Corporations. Complete a ledger exercise comparing the estimated tax liability of a hypothetical company reporting as a Sole Proprietorship vs. an S Corp. \nThere will be a $15 fee for this event.
URL:https://nevadasbdc.org/event/you-and-your-uncle-sam-tax-implications-of-business-types/
LOCATION:Innevation Center\, 450 Sinclair Street\, Reno\, NV\, 89501\, United States
CATEGORIES:Taxes
ORGANIZER;CN="SCORE Northern NV":MAILTO:scorennv@gmail.com
GEO:39.5220337;-119.8080639
X-APPLE-STRUCTURED-LOCATION;VALUE=URI;X-ADDRESS=Innevation Center 450 Sinclair Street Reno NV 89501 United States;X-APPLE-RADIUS=500;X-TITLE=450 Sinclair Street:geo:-119.8080639,39.5220337
END:VEVENT
BEGIN:VEVENT
DTSTART;TZID=America/Los_Angeles:20220118T180000
DTEND;TZID=America/Los_Angeles:20220118T200000
DTSTAMP:20260424T045509
CREATED:20211220T213342Z
LAST-MODIFIED:20211220T213342Z
UID:10000427-1642528800-1642536000@nevadasbdc.org
SUMMARY:You and Your Uncle Sam Tax Implications of Business Types
DESCRIPTION:This event is hosted by Northern Nevada SCORE. \nLearn the legal obligations to report your business income and expenses. What records are required and which expenses are and are not deductible? \nWhat are the rules for: \n– Deducting various business expenses\, such as business meals \n– Home office expenses and auto expenses\, as well as the record keeping requirements for each. \n– Various ways to keep your records. \n– The difference between CPAs and EAs (Enrolled Agents) \n– Why an EA may be the right choice for you. \nCompare the tax advantages and disadvantages of various entity types: Sole Proprietorship\, LLC\, Partnership and Corporations. Complete a ledger exercise comparing the estimated tax liability of a hypothetical company reporting as a Sole Proprietorship vs. an S Corp.
URL:https://nevadasbdc.org/event/you-and-your-uncle-sam-tax-implications-of-business-types-2/
LOCATION:Innevation Center\, 450 Sinclair Street\, Reno\, NV\, 89501\, United States
CATEGORIES:Taxes
ORGANIZER;CN="SCORE Northern NV":MAILTO:scorennv@gmail.com
GEO:39.5220337;-119.8080639
X-APPLE-STRUCTURED-LOCATION;VALUE=URI;X-ADDRESS=Innevation Center 450 Sinclair Street Reno NV 89501 United States;X-APPLE-RADIUS=500;X-TITLE=450 Sinclair Street:geo:-119.8080639,39.5220337
END:VEVENT
BEGIN:VEVENT
DTSTART;TZID=America/Los_Angeles:20220211T080000
DTEND;TZID=America/Los_Angeles:20220211T093000
DTSTAMP:20260424T045509
CREATED:20220201T211324Z
LAST-MODIFIED:20220201T211324Z
UID:10000182-1644566400-1644571800@nevadasbdc.org
SUMMARY:Tax Bootcamp for Businesses with CARES ACT Funds
DESCRIPTION:Did you receive any funds from PPP\, RRF\, Grants\, and/or EIDL? \n\nJoin our Tax Bootcamp for Businesses with CARES ACT Funds to learn from professionals! \n\nThey will break down: OR You will learn: \n\n– CARES ACT tax provisions\, as well as tax credits and deductions you may qualify for \n– How to gather numbers\, statements\, and documents needed for your tax return \n– Bookkeeping and the usage of Excel or accounting softwares \n– The tax reconciliation process and procedures \n\nAttend our bootcamp and be prepared for tax time in 2022!\n \n\nKelly is currently the Owner and Founder of Kelly Tate CPA\, a full-service accounting firm serving more than 500 clients. His specialty is tax\, consulting and strategic business decision making. Kelly attended New Mexico State University and graduated with a Bachelor of Accounting and a Bachelor of Business Administration with an emphasis on Finance with honors. \n\nAward winning founder of TheOfficeSquad®\, Dida Clifton\, served 6 years in F-15 Squadron Operations for the U.S. Air Force.   While traveling in support of her husband’s Fighter Pilot career\, she raised two daughters and opened her own small business to help others with theirs. For the last 20 years\, she has dedicated herself and her squad to the support of small business owners. \n \nFunded in part through a Cooperative Agreement with the U.S. Small Business Administration.
URL:https://nevadasbdc.org/event/tax-bootcamp-for-businesses-with-cares-act-funds/
LOCATION:UNLV Black Fire Innovation\, 8400 W. Sunset Rd.\, Las Vegas\, NV\, 89113\, United States
CATEGORIES:Accounting/Finance,Taxes
ORGANIZER;CN="Nevada SBDC":MAILTO:training@nevadasbdc.org
GEO:36.0710118;-115.2751416
X-APPLE-STRUCTURED-LOCATION;VALUE=URI;X-ADDRESS=UNLV Black Fire Innovation 8400 W. Sunset Rd. Las Vegas NV 89113 United States;X-APPLE-RADIUS=500;X-TITLE=8400 W. Sunset Rd.:geo:-115.2751416,36.0710118
END:VEVENT
BEGIN:VEVENT
DTSTART;TZID=America/Los_Angeles:20221210T100000
DTEND;TZID=America/Los_Angeles:20221210T113000
DTSTAMP:20260424T045509
CREATED:20221123T170636Z
LAST-MODIFIED:20221123T170636Z
UID:10000513-1670666400-1670671800@nevadasbdc.org
SUMMARY:Tax Implications of Business Types
DESCRIPTION:This event is hosted by Northern Nevada SCORE. \nLearn the legal obligations to report your business income and expenses. What records are required and which expenses are and are not deductible? \nWhat are the rules for: \n– Deducting various business expenses\, such as business meals \n– Home office expenses and auto expenses\, as well as the record keeping requirements for each. \n– Various ways to keep your records. \n– The difference between CPAs and EAs (Enrolled Agents) \n– Why an EA may be the right choice for you. \nCompare the tax advantages and disadvantages of various entity types: Sole Proprietorship\, LLC\, Partnership and Corporations. Complete a ledger exercise comparing the estimated tax liability of a hypothetical company reporting as a Sole Proprietorship vs. an S Corp.
URL:https://nevadasbdc.org/event/tax-implications-of-business-types/
LOCATION:Innevation Center\, 450 Sinclair Street\, Reno\, NV\, 89501\, United States
CATEGORIES:Accounting/Finance,Taxes
ORGANIZER;CN="SCORE Northern NV":MAILTO:scorennv@gmail.com
GEO:39.5220337;-119.8080639
X-APPLE-STRUCTURED-LOCATION;VALUE=URI;X-ADDRESS=Innevation Center 450 Sinclair Street Reno NV 89501 United States;X-APPLE-RADIUS=500;X-TITLE=450 Sinclair Street:geo:-119.8080639,39.5220337
END:VEVENT
BEGIN:VEVENT
DTSTART;TZID=America/Los_Angeles:20230131T100000
DTEND;TZID=America/Los_Angeles:20230131T113000
DTSTAMP:20260424T045509
CREATED:20230113T231240Z
LAST-MODIFIED:20230124T201622Z
UID:10000529-1675159200-1675164600@nevadasbdc.org
SUMMARY:The Tax Boutique
DESCRIPTION:The training will discuss the tax code changes that affect entrepreneurs\, bookkeeping tips and general information. This training is designed to engage the seasoned entrepreneurs and new business owners.  We hope you leave the training enlightened and armed with tools to assist you in understanding your business. \nLeaha Crawford is the founder and Chief Executive Officer for Crawford Management Group CMG. Ms. Crawford has more than 25 years of experience accounting industry working in Washington\, D.C.\, Chicago\, and Las Vegas. The company’s clientele is extensive and varied including charter schools\, restaurateurs\, mortuaries\, nonprofit organizations\, and campaign finance. Crawford Management Group is committed to providing financial services that afford clients the freedom to focus on their business with sound peace of mind. \nMs. Crawford is the host of “The Tax Boutique”\, the radio show airs the 2nd Monday at 9am in KCEP\, Power 88.1. Ms. Crawford also cohost “Let’s Talk with Leaha and Rhonda’ which airs weekly on Saturday morning on KUNV\, 91.5 and the 4th and 5th Wednesday at 9am on KCEP\, Power 88.1. \nCrawford is a Philadelphia\, Pennsylvania native who attained her bachelor’s degree in Accounting from Howard University. She holds a master’s in Business Administration – Accounting from the University of Phoenix.  Crawford is a member of Alpha Kappa Alpha Sorority Incorporated. She also is a member of the Las Vegas Chapter of the Girl Friends\, Incorporated. \nCrawford was recognized by the Las Vegas Urban Chamber of Commerce as one of its 2013 Women In Business Award recipients and has been the recipient of Valley Center Opportunity Zone (VCOZ) business development awards for three consecutive years.  Crawford is a visionary leader in her sector; and as a small business Crawford Management Group is an example of how hard work and perseverance pay off. \nCrawford is the mother of two – daughter\, Aliyha\, and son\, Nasir. She is a devout “foodie.” In her spare time\, she enjoys reading\, traveling\, yoga and volunteering in the community. \n \nFunded in part through a Cooperative Agreement with the U.S. Small Business Administration.
URL:https://nevadasbdc.org/event/tax-webinar/
LOCATION:ONLINE\, STATEWIDE\, NV\, United States
CATEGORIES:Taxes,Webinar
ORGANIZER;CN="Nevada SBDC":MAILTO:training@nevadasbdc.org
GEO:38.8026097;-116.419389
END:VEVENT
BEGIN:VEVENT
DTSTART;TZID=America/Los_Angeles:20240130T100000
DTEND;TZID=America/Los_Angeles:20240130T113000
DTSTAMP:20260424T045509
CREATED:20231222T002019Z
LAST-MODIFIED:20231222T002019Z
UID:10000605-1706608800-1706614200@nevadasbdc.org
SUMMARY:Tax Boutique Presents\, Tax Updates for 2024
DESCRIPTION:The discussion will be based on the new tax laws and updates. \n  \nLeaha Crawford is the founder and Chief Executive Officer for Crawford Management Group CMG. Ms. Crawford has more than 25 years of experience accounting industry working in Washington\, D.C.\, Chicago\, and Las Vegas. The company’s clientele is extensive and varied including charter schools\, restaurateurs\, mortuaries\, nonprofit organizations\, and campaign finance. Crawford Management Group is committed to providing financial services that afford clients the freedom to focus on their business with sound peace of mind. \nMs. Crawford is the host of “The Tax Boutique”\, the radio show airs the 2nd Monday at 9am in KCEP\, Power 88.1. Ms. Crawford also cohost “Let’s Talk with Leaha and Rhonda’ which airs weekly on Saturday morning on KUNV\, 91.5 and the 4th and 5th Wednesday at 9am on KCEP\, Power 88.1. \nCrawford is a Philadelphia\, Pennsylvania native who attained her bachelor’s degree in Accounting from Howard University. She holds a master’s in Business Administration – Accounting from the University of Phoenix.  Crawford is a member of Alpha Kappa Alpha Sorority Incorporated. She also is a member of the Las Vegas Chapter of the Girl Friends\, Incorporated. \nCrawford was recognized by the Las Vegas Urban Chamber of Commerce as one of its 2013 Women In Business Award recipients and has been the recipient of Valley Center Opportunity Zone (VCOZ) business development awards for three consecutive years.  Crawford is a visionary leader in her sector; and as a small business Crawford Management Group is an example of how hard work and perseverance pay off. \nCrawford is the mother of two – daughter\, Aliyha\, and son\, Nasir. She is a devout “foodie.” In her spare time\, she enjoys reading\, traveling\, yoga and volunteering in the community. \n \nThe Nevada SBDC is funded in part through a Cooperative Agreement with the U.S. Small Business Administration.
URL:https://nevadasbdc.org/event/tax-boutique-presents-tax-updates-for-2024/
LOCATION:ONLINE\, STATEWIDE\, NV\, United States
CATEGORIES:Taxes,Webinar
ORGANIZER;CN="Nevada SBDC":MAILTO:training@nevadasbdc.org
GEO:38.8026097;-116.419389
END:VEVENT
BEGIN:VEVENT
DTSTART;TZID=America/Los_Angeles:20250714T120000
DTEND;TZID=America/Los_Angeles:20250714T130000
DTSTAMP:20260424T045509
CREATED:20250624T180330Z
LAST-MODIFIED:20250626T183448Z
UID:10000744-1752494400-1752498000@nevadasbdc.org
SUMMARY:Tax Essentials for Small Business Owners
DESCRIPTION:Designed for entrepreneurs and small business owners\, this class covers the fundamentals of federal tax responsibilities\, including income tax\, self-employment tax\, estimated payments\, and common deductions. The course also provides a brief overview of Nevada sales tax rules\, helping business owners understand when and how sales tax may apply to their products or services.\n\nTaught by Lori Hauck\, a Certified Public Accountant licensed in three states. She has over 15 years of experience teaching finance and accounting classes to college students and business professionals. She is an entrepreneur and international speaker on behavioral finance topics. She possesses a talent explaining financial topics to clients\, students\, and entrepreneurs in ways they can easily understand.\n\nThis is part of our State Small Business Credit Initiative (SSBCI) program powered by the Governor’s Office of Economic Development (GOED) and funded by the U.S. Department of Treasury.\n 
URL:https://nevadasbdc.org/event/tax-essentials-for-small-business-owners/
LOCATION:ONLINE\, STATEWIDE\, NV\, United States
CATEGORIES:Taxes,Webinar
ORGANIZER;CN="Kaitlyn Schwantes":MAILTO:kschwantes@unr.edu
GEO:38.8026097;-116.419389
END:VEVENT
BEGIN:VEVENT
DTSTART;TZID=America/Los_Angeles:20260206T170000
DTEND;TZID=America/Los_Angeles:20260206T190000
DTSTAMP:20260424T045509
CREATED:20260128T005641Z
LAST-MODIFIED:20260128T005641Z
UID:10000839-1770397200-1770404400@nevadasbdc.org
SUMMARY:Tax Compliance Workshop Series
DESCRIPTION:Session #1\n2026-02-06\n5:30 PM\n– 7:00 PM (PST)\n\n\n\nSession #2\n2026-02-13\n5:30 PM\n– 7:00 PM (PST)\n\n\n\nSession #3\n2026-02-20\n5:30 PM\n– 7:00 PM (PST)\n\n\n\nSession #4\n2026-02-27\n5:30 PM\n– 7:00 PM (PST)\n\n\n\nSession #5\n2026-03-06\n5:30 PM\n– 7:00 PM (PST)\n\n\n\n\nReady to take your business to the next level? Join us for an engaging session packed with valuable insights on the critical legal and financial steps for starting and growing your business. Learn the difference between business and personal taxes\, maintain accurate records\, select the ideal business structure\, and more! \nGain essential knowledge on federal employment tax rules\, classifying workers\, payroll management\, and common federal tax credits for small businesses. Don’t miss this chance to set your business up for success—register today! \nWeek 1: Income Tax Basics for Small Businesses\nWeek 2: Income\, Expenses\, and Accurate Recordkeeping\nWeek 3: Self Employment Tax\, Payroll & Owner Pay\nWeek 4: Filing Requirements\, Forms & Deadlines\nWeek 5: Tax Planning\, Credits\, and Working With Professionals \nCarmen L. Mendez is a seasoned business executive and tax educator with over 20 years of experience supporting small businesses. She brings hands-on tax leadership from H&R Block\, where she managed more than 300 tax professionals across a major metropolitan market and worked directly with small business owners on tax compliance\, deductions\, and year-round planning. Known for simplifying complex tax topics\, Carmen teaches practical\, easy-to-follow tax courses designed to help small business owners understand their tax responsibilities\, avoid costly mistakes\, and make smarter financial decisions.Luis Caldera is a seasoned tax and business professional with many years of experience in personal and corporate tax preparation. He brings extensive expertise in bookkeeping\, business administration\, and business licensing\, helping clients stay compliant while building strong financial foundations. Luis has significant experience working with construction businesses\, including construction-specific business licensing\, and understands the regulatory and financial challenges unique to the industry. Known for his accuracy\, reliability\, and client-focused approach\, Luis is dedicated to helping individuals and businesses operate efficiently\, minimize risk\, and achieve long-term success. \n \n  \n 
URL:https://nevadasbdc.org/event/tax-compliance-workshop-series/
LOCATION:8400 W. Sunset Rd #300\, 8400 W Sunset Rd #300\, Las Vegas\, NV\, 89113\, United States
CATEGORIES:Accounting/Finance,Taxes
ORGANIZER;CN="Albert Delgado":MAILTO:albert.delgado@unlv.edu
GEO:36.0712818;-115.2754368
X-APPLE-STRUCTURED-LOCATION;VALUE=URI;X-ADDRESS=8400 W. Sunset Rd #300 8400 W Sunset Rd #300 Las Vegas NV 89113 United States;X-APPLE-RADIUS=500;X-TITLE=8400 W Sunset Rd #300:geo:-115.2754368,36.0712818
END:VEVENT
END:VCALENDAR