BEGIN:VCALENDAR
VERSION:2.0
PRODID:-//Nevada SBDC - ECPv6.10.1//NONSGML v1.0//EN
CALSCALE:GREGORIAN
METHOD:PUBLISH
X-ORIGINAL-URL:https://nevadasbdc.org
X-WR-CALDESC:Events for Nevada SBDC
REFRESH-INTERVAL;VALUE=DURATION:PT1H
X-Robots-Tag:noindex
X-PUBLISHED-TTL:PT1H
BEGIN:VTIMEZONE
TZID:America/Los_Angeles
BEGIN:DAYLIGHT
TZOFFSETFROM:-0800
TZOFFSETTO:-0700
TZNAME:PDT
DTSTART:20250309T100000
END:DAYLIGHT
BEGIN:STANDARD
TZOFFSETFROM:-0700
TZOFFSETTO:-0800
TZNAME:PST
DTSTART:20251102T090000
END:STANDARD
END:VTIMEZONE
BEGIN:VEVENT
DTSTART;TZID=America/Los_Angeles:20250415T090000
DTEND;TZID=America/Los_Angeles:20250415T100000
DTSTAMP:20260424T045602
CREATED:20250324T230546Z
LAST-MODIFIED:20250324T230546Z
UID:10000730-1744707600-1744711200@nevadasbdc.org
SUMMARY:102 Website Review and Refresh
DESCRIPTION:102 is the website review\, refresh\, and what other ways to generate revenue through a website once your business is established. \nYou’ve built a business that works and now it’s time for the website to do more for you…what more do I need it to do? \n\n                Moving from a first version to an updated version – what do I need to consider before I do this?\n                Does your site pay for itself or is it a money hole? If its a money hole\, how do we solve that problem?\n                Is the website the center of your lead generation or something else?\n                What are some common ways to update a site to make it look clean and modern? A 21st century design style?\n                What are you asking clients to do? Is it clear? Obvious? Simple? Central? Repeated?\n                Live Group Activity – What does your current website communicate to people that are not you?\n\nRyan Pramberg\, Alexander Newby\, and Rob Benson – this team of serial entrepreneurs have had their hands in non-profits\, kickstarters\, web design and development\, and financial advising. We believe that the best strategy is to “show\, not tell” as we build beautiful websites that convert for your business.
URL:https://nevadasbdc.org/event/102-website-review-and-refresh/
LOCATION:ONLINE\, STATEWIDE\, NV\, United States
CATEGORIES:Digital Marketing,Tech Training,Webinar
ORGANIZER;CN="Nevada SBDC":MAILTO:training@nevadasbdc.org
GEO:38.8026097;-116.419389
END:VEVENT
END:VCALENDAR