BEGIN:VCALENDAR
VERSION:2.0
PRODID:-//Nevada SBDC - ECPv6.10.1//NONSGML v1.0//EN
CALSCALE:GREGORIAN
METHOD:PUBLISH
X-WR-CALNAME:Nevada SBDC
X-ORIGINAL-URL:https://nevadasbdc.org
X-WR-CALDESC:Events for Nevada SBDC
REFRESH-INTERVAL;VALUE=DURATION:PT1H
X-Robots-Tag:noindex
X-PUBLISHED-TTL:PT1H
BEGIN:VTIMEZONE
TZID:America/Los_Angeles
BEGIN:DAYLIGHT
TZOFFSETFROM:-0800
TZOFFSETTO:-0700
TZNAME:PDT
DTSTART:20250309T100000
END:DAYLIGHT
BEGIN:STANDARD
TZOFFSETFROM:-0700
TZOFFSETTO:-0800
TZNAME:PST
DTSTART:20251102T090000
END:STANDARD
BEGIN:DAYLIGHT
TZOFFSETFROM:-0800
TZOFFSETTO:-0700
TZNAME:PDT
DTSTART:20260308T100000
END:DAYLIGHT
BEGIN:STANDARD
TZOFFSETFROM:-0700
TZOFFSETTO:-0800
TZNAME:PST
DTSTART:20261101T090000
END:STANDARD
END:VTIMEZONE
BEGIN:VEVENT
DTSTART;TZID=America/Los_Angeles:20250614T100000
DTEND;TZID=America/Los_Angeles:20250614T110000
DTSTAMP:20260422T095022
CREATED:20250514T232233Z
LAST-MODIFIED:20250514T232233Z
UID:10000741-1749895200-1749898800@nevadasbdc.org
SUMMARY:DIY Your Brand Video With AI (No Tech Skills Needed!)
DESCRIPTION:You don’t need a camera crew or editing skills to create a high-impact brand video. In this beginner-friendly workshop\, you’ll learn how to use AI to script\, narrate\, and produce a professional-looking video that captures attention\, builds trust\, and converts viewers into customers. \nThis is perfect for small business owners\, startups\, and entrepreneurs who want a polished video on their website or social media—without the overwhelm. \nYou’ll learn how to: \n\nWrite a clear and compelling message with AI\nTurn your script into a pro voiceover\nGenerate a full video with visuals\, captions\, and branding\nMake your video feel on-brand and high-converting\nRepurpose it across your website\, social media\, and email
URL:https://nevadasbdc.org/event/diy-your-brand-video-with-ai-no-tech-skills-needed/
LOCATION:8400 W. Sunset Rd #300\, 8400 W Sunset Rd #300\, Las Vegas\, NV\, 89113\, United States
CATEGORIES:Business Planning,Digital Marketing,Marketing/Sales,Starting a Business,Tech Training
ORGANIZER;CN="Nevada SBDC":MAILTO:training@nevadasbdc.org
GEO:36.0712818;-115.2754368
X-APPLE-STRUCTURED-LOCATION;VALUE=URI;X-ADDRESS=8400 W. Sunset Rd #300 8400 W Sunset Rd #300 Las Vegas NV 89113 United States;X-APPLE-RADIUS=500;X-TITLE=8400 W Sunset Rd #300:geo:-115.2754368,36.0712818
END:VEVENT
BEGIN:VEVENT
DTSTART;TZID=America/Los_Angeles:20250722T130000
DTEND;TZID=America/Los_Angeles:20250722T140000
DTSTAMP:20260422T095022
CREATED:20250702T161737Z
LAST-MODIFIED:20250702T161737Z
UID:10000762-1753189200-1753192800@nevadasbdc.org
SUMMARY:Grow Your Business with AI-Powered Tools by Google
DESCRIPTION:Artificial Intelligence (AI) is a powerful technology that can help simplify business tasks and create new opportunities for small businesses and entrepreneurs – but knowing how to use it may seem out of reach. Developed with input from experts at Google\, this workshop will explain the basics of AI and how AI-powered tools by Google can help small businesses be more efficient\, enhance customer experiences\, and drive growth.Presenter is Roberto Martinez\, Founder and CEO of Braven Agency & Smrts and Google Coach in California \nRoberto is an entrepreneur\, speaker\, and educator with a wealth of experience in digital marketing\, entrepreneurship\, AI and technology. He’s passionate about helping businesses grow and succeed in the digital age running over 500 marketing and entrepreneurial workshops since 2017. He runs Braven Agency\, a digital marketing agency\, and SMRTS\, a business intelligence AI software company. \nHe is Google’s California Coach\, teaching small businesses how to leverage Google technology to grow. In 2020\, he was appointed by the Mayor of Los Angeles as the City’s Entrepreneur in Residence (EIR)\, where he created and launched LA Optimized\, an SMB program designed to digitize businesses to sell online during and post-pandemic. In January of 2024\, Roberto launched Braven Creative Studios AI\, an AI creative solution that has run AI training for Google\, USC\, and Amazon after securing certification from Google AI and ChatGPT. In 2024\, he was selected by LA Times B2B Magazine as a DEIA Awardee.
URL:https://nevadasbdc.org/event/grow-your-business-with-ai-powered-tools-by-google/
LOCATION:ONLINE\, STATEWIDE\, NV\, United States
CATEGORIES:Tech Training,Webinar
ORGANIZER;CN="Nevada SBDC":MAILTO:training@nevadasbdc.org
GEO:38.8026097;-116.419389
END:VEVENT
BEGIN:VEVENT
DTSTART;TZID=America/Los_Angeles:20250731T110000
DTEND;TZID=America/Los_Angeles:20250731T120000
DTSTAMP:20260422T095022
CREATED:20250715T174440Z
LAST-MODIFIED:20250715T174503Z
UID:10000763-1753959600-1753963200@nevadasbdc.org
SUMMARY:Where's the Contract? SBIR/STTR: Nondilutive Federal Funding Opportunities for Early Technologies
DESCRIPTION:Join Logan Jones\, Project Coordinator – Entrepreneurial Development Enterprise & Innovation from the Sierra Accelerator for Growth and Entrepreneurship (SAGE) at University of Nevada\, Reno for an informative session on accessing nondilutive federal funding through the Small Business Innovation Research (SBIR) and Small Business Technology Transfer (STTR) programs. This discussion will explore the small business innovation ecosystem\, current federal funding trends\, share key resources to support your application process in the state of Nevada\, and provide actionable strategies and timelines for crafting a competitive proposal. \nThe webinar will conclude with a Q&A session\, offering you the opportunity to get your specific questions answered and gain tailored advice for your business. Don’t miss this chance to unlock funding opportunities for your early-stage technology! \nAn overview of the Nevada APEX Accelerator will also be provided by an APEX representative. \nRegister by no later than July 30th\, only using the following GoTo Webinar link: \nhttps://attendee.gotowebinar.com/register/2254809625564481371 \n“Where’s The Contract?” is a no-charge monthly training program designed to put Nevada businesses on the path to securing government contracts and subcontracts and diversifying revenue sources. \nRegarding the APEX Accelerator [formerly known as the Nevada Procurement Technical Assistance Center (PTAC)] (note: see the updated webpage at https://goed.nv.gov/programs-incentives/procurement-assistance-outreach/ to become a client and follow us on the updated LinkedIn profile at https://www.linkedin.com): This APEX Accelerator is funded in part through a cooperative agreement with the Department of Defense. \nRegarding the Nevada SBDC: The Nevada SBDC is funded in part through a Cooperative Agreement with the U.S. Small Business Administration.All services are extended to the public on a non-discriminatory basis. Reasonable accommodations for persons with mental or physical disabilities will be made if requested at least two weeks in advance. Contact the Nevada SBDC State Office at (800) 240-7094 to make arrangements. SBA cannot endorse any products\, opinions or services of any external parties or activities. \nThis webinar is co-sponsored by two separate organizations\, i.e.\, the APEX Accelerator and the Nevada SBDC.
URL:https://nevadasbdc.org/event/wheres-the-contract-sbir-sttr-nondilutive-federal-funding-opportunities-for-early-technologies/
LOCATION:ONLINE\, STATEWIDE\, NV\, United States
CATEGORIES:Government Contracting,Tech Training,Webinar
ORGANIZER;CN="APEX Accelerator Northern Nevada":MAILTO:procurement@diversifynevada.com
GEO:38.8026097;-116.419389
END:VEVENT
BEGIN:VEVENT
DTSTART;TZID=America/Los_Angeles:20250925T080000
DTEND;TZID=America/Los_Angeles:20250925T090000
DTSTAMP:20260422T095022
CREATED:20250815T171125Z
LAST-MODIFIED:20250815T171125Z
UID:10000774-1758787200-1758790800@nevadasbdc.org
SUMMARY:La ciberseguridad y tu pequeña empresa
DESCRIPTION:La ciberseguridad es un tema importante para las empresas de todos los tamaños. En este taller\, presentaremos los fundamentos de la seguridad en línea y cómo se aplica a tu empresa y a tus clientes. Aprenderás formas de identificar las amenazas digitales más comunes y los pasos que puedes dar para proteger tu negocio. Te llevarás consejos prácticos y herramientas para aumentar la ciberseguridad de tu empresa\, así como información sobre el Certificado de carrera de ciberseguridad de Google para ayudar a tus empleados a adquirir habilidades en este ámbito. \nParticipa para aprender: \n\n\nLa razón por la que la ciberseguridad es importante para las empresas de todos los tamaños. \n\n\nCómo puedes proteger a tu empresa y a tus clientes en línea. \n\n\nCuáles son los pasos que puedes dar tras una posible brecha de seguridad \n\n\n 
URL:https://nevadasbdc.org/event/la-ciberseguridad-y-tu-pequena-empresa/
LOCATION:ONLINE\, STATEWIDE\, NV\, United States
CATEGORIES:Tech Training,Webinar
ORGANIZER;CN="Nevada SBDC":MAILTO:training@nevadasbdc.org
GEO:38.8026097;-116.419389
END:VEVENT
BEGIN:VEVENT
DTSTART;TZID=America/Los_Angeles:20251014T170000
DTEND;TZID=America/Los_Angeles:20251014T180000
DTSTAMP:20260422T095022
CREATED:20250819T191005Z
LAST-MODIFIED:20250819T191005Z
UID:10000776-1760461200-1760464800@nevadasbdc.org
SUMMARY:AI Voice Agents That Do the Work While You Talk
DESCRIPTION:Discover the future of AI-powered productivity. In this hands-on session\, you’ll see how next-gen AI voice agents—powered by MCP server access—can do more than just talk. \nYou’ll learn how to:\n– Call your AI like you would a team member\n– Send emails\, create proposals\, and draft follow-ups—mid-call\n– Generate PDFs and documents automatically during conversations\n– Integrate with your existing tools so your AI can take real action in real time \n  \nKarma is a marketing strategist\, digital marketing expert\, and copywriter with over 23 years of marketing\, sales\, and customer service experience in a variety of industries (Tech\, B2B\, Hospitality\, Travel\, Health\, and more). After graduating from PR/journalism school she became a copywriter at a PR agency. Fueled by a passion for the evolving landscape of digital marketing\, Karma transitioned into becoming a digital nomad\, traveling the globe while contributing her expertise to resorts worldwide. Along the way\, she studied English teaching at the University of Cambridge\, adding depth to her multifaceted skill set. Her digital skills set the stage for a series of strategic roles in the tech industry\, where she excelled as a CMO\, Head of Customer Success\, and Head of Demand Generation for various companies. Her trajectory took an exciting turn as she assumed the role of General Manager for American Airlines\, showcasing her adaptability and leadership prowess. In her business\, she has generously shared her wealth of knowledge with small business owners\, personal brands\, marketers\, and agencies. For over 4 years\, she has been a marketing mentor for SCORE\, actively contributing to the startup ecosystem by conducting workshops and teaching about brand and marketing strategy.
URL:https://nevadasbdc.org/event/ai-voice-agents-that-do-the-work-while-you-talk/
LOCATION:8400 W. Sunset Rd #300\, 8400 W Sunset Rd #300\, Las Vegas\, NV\, 89113\, United States
CATEGORIES:Tech Training
ORGANIZER;CN="Albert Delgado":MAILTO:albert.delgado@unlv.edu
GEO:36.0712818;-115.2754368
X-APPLE-STRUCTURED-LOCATION;VALUE=URI;X-ADDRESS=8400 W. Sunset Rd #300 8400 W Sunset Rd #300 Las Vegas NV 89113 United States;X-APPLE-RADIUS=500;X-TITLE=8400 W Sunset Rd #300:geo:-115.2754368,36.0712818
END:VEVENT
BEGIN:VEVENT
DTSTART;TZID=America/Los_Angeles:20251112T150000
DTEND;TZID=America/Los_Angeles:20251112T200000
DTSTAMP:20260422T095022
CREATED:20251010T183228Z
LAST-MODIFIED:20251110T173657Z
UID:10000814-1762959600-1762977600@nevadasbdc.org
SUMMARY:AI Pitch Competition
DESCRIPTION:Description: \n\nThe Nevada Small Business Development Center (SBDC)\, in partnership with Amazon Web Services (AWS)\, is proud to announce the next AI Pitch Competition\, happening November 12\, 2025\, in Las Vegas.\nThis is your chance to showcase your AI vision in front of AWS leaders and industry experts—while competing for up to $35\,000 in AWS partner funding to bring your project to life. \nWhat’s at Stake?\nUp to $35K in total support to accelerate your AI project.\n$10K in guaranteed engineering support – Access AWS engineers who will help you design and implement your AI solution.\nUp to $25K in Proof of Concept (PoC) funding – Additional non-cash support to help build and validate your AI initiative. \nPlease note: No cash prizes or checks will be awarded. Support is provided in technical and strategic AWS resources only. \nHow It Works\nApply to Pitch – Up to 10 businesses will be selected. Submit your 300–500 word synopsis describing how you plan to use AI in your business.\nPitch Live – Selected businesses will deliver a 3-minute pitch on stage in front of a live audience and expert panel\, followed by a short Q&A. Visual aids (e.g.\, PowerPoint) are allowed.\nNetwork & Connect – After the competition\, you’ll have the chance to meet with AWS leaders and industry experts to discuss AI-powered opportunities. \nWho Should Apply?\nThis competition is designed for small businesses that:\nAre building or integrating AI into their operations\nNeed funding\, resources\, and expert support to move their AI vision forward.\nWant to connect with AWS leaders to refine and implement AI strategies. \nWhy Participate?\nGain exclusive access to AWS funding & technical support.\nPitch your idea directly to AWS and AI leaders.\nReceive tailored feedback in a high-value\, competitive pitch setting.\nBuild powerful connections with AWS experts and peers in the AI ecosystem. \nAbout the Hosts & Sponsors\nAWS (Amazon Web Services) – The world’s leading cloud computing and AI platform.\nNevada SBDC – Providing no-cost business advising\, training\, and resources to help small businesses start\, grow\, and thrive. \nKey Details\nApplication Deadline: November 2\, 2025\nCompetition Date: November 12\, 2025
URL:https://nevadasbdc.org/event/ai-pitch-competition-2/
LOCATION:Corporate Coworking Space\, 5725 S Valley View Blvd Suite 6\, Las Vegas\, 89118\, United States
CATEGORIES:Funding,Tech Training
ORGANIZER;CN="Nevada SBDC":MAILTO:training@nevadasbdc.org
GEO:36.0858173;-115.1904123
X-APPLE-STRUCTURED-LOCATION;VALUE=URI;X-ADDRESS=Corporate Coworking Space 5725 S Valley View Blvd Suite 6 Las Vegas 89118 United States;X-APPLE-RADIUS=500;X-TITLE=5725 S Valley View Blvd Suite 6:geo:-115.1904123,36.0858173
END:VEVENT
BEGIN:VEVENT
DTSTART;TZID=America/Los_Angeles:20251216T100000
DTEND;TZID=America/Los_Angeles:20251216T140000
DTSTAMP:20260422T095022
CREATED:20251110T221121Z
LAST-MODIFIED:20251110T221121Z
UID:10000821-1765879200-1765893600@nevadasbdc.org
SUMMARY:AI Powered Images Workshop
DESCRIPTION:Turn 1 Product Photo into Unlimited Variations with a Free Google Tool\nRemix. Reimagine. Reinvent. \nIn this hands-on workshop\, you’ll learn how to take a single product photo and transform it into endless creative variations using a free Google AI tool.\nFrom swapping backgrounds to changing outfits\, creating memes\, and adding visual effects — you’ll discover how to make your visuals stand out and go viral\, all without needing a designer or paid software. \nYou’ll Learn How To: \nReimagine Your Images: Make your product or model wear different outfits\, poses\, or accessories — instantly. \nChange the Scene: Swap backgrounds\, add or remove elements\, and experiment with styles and aesthetics. \nCreate Shareable Visuals: Turn your photos into fun memes\, lifestyle shots\, and ad-ready variations.
URL:https://nevadasbdc.org/event/ai-powered-images-workshop/
LOCATION:8400 W. Sunset Rd #300\, 8400 W Sunset Rd #300\, Las Vegas\, NV\, 89113\, United States
CATEGORIES:Tech Training
ORGANIZER;CN="Nevada SBDC":MAILTO:training@nevadasbdc.org
GEO:36.0712818;-115.2754368
X-APPLE-STRUCTURED-LOCATION;VALUE=URI;X-ADDRESS=8400 W. Sunset Rd #300 8400 W Sunset Rd #300 Las Vegas NV 89113 United States;X-APPLE-RADIUS=500;X-TITLE=8400 W Sunset Rd #300:geo:-115.2754368,36.0712818
END:VEVENT
BEGIN:VEVENT
DTSTART;TZID=America/Los_Angeles:20260225T150000
DTEND;TZID=America/Los_Angeles:20260225T200000
DTSTAMP:20260422T095022
CREATED:20260205T000322Z
LAST-MODIFIED:20260205T000322Z
UID:10000844-1772031600-1772049600@nevadasbdc.org
SUMMARY:Tech Pitch Competition
DESCRIPTION:This Tech Pitch Competition is designed for founders with a technology-based idea\, platform\, or AI-enabled solution who want real support to move from concept to execution. \nYou do not need to be a technical founder or run a traditional tech company. Many successful technology solutions are built by non-technical founders who clearly understand the problem and use technology to solve it. \nThe competition is open to all founders and demographics and is structured to increase access for capable builders who may not traditionally apply to pitch competitions due to lack of preparation\, exposure\, or clarity around pitching. \nHosted by Nevada SBDC / UNLV Office of Economic Development\, sponsored by AWS\, Elevate Las Vegas\, and Tech Alley.
URL:https://nevadasbdc.org/event/tech-pitch-competition/
LOCATION:140 S. Water St.\, 140 S. Water Street\, Henderson\, NV\, 89015\, United States
CATEGORIES:Tech Training
ORGANIZER;CN="Albert Delgado":MAILTO:albert.delgado@unlv.edu
GEO:36.0319904;-114.9836672
X-APPLE-STRUCTURED-LOCATION;VALUE=URI;X-ADDRESS=140 S. Water St. 140 S. Water Street Henderson NV 89015 United States;X-APPLE-RADIUS=500;X-TITLE=140 S. Water Street:geo:-114.9836672,36.0319904
END:VEVENT
END:VCALENDAR