BEGIN:VCALENDAR
VERSION:2.0
PRODID:-//Nevada SBDC - ECPv6.10.1//NONSGML v1.0//EN
CALSCALE:GREGORIAN
METHOD:PUBLISH
X-WR-CALNAME:Nevada SBDC
X-ORIGINAL-URL:https://nevadasbdc.org
X-WR-CALDESC:Events for Nevada SBDC
REFRESH-INTERVAL;VALUE=DURATION:PT1H
X-Robots-Tag:noindex
X-PUBLISHED-TTL:PT1H
BEGIN:VTIMEZONE
TZID:America/Los_Angeles
BEGIN:DAYLIGHT
TZOFFSETFROM:-0800
TZOFFSETTO:-0700
TZNAME:PDT
DTSTART:20260308T100000
END:DAYLIGHT
BEGIN:STANDARD
TZOFFSETFROM:-0700
TZOFFSETTO:-0800
TZNAME:PST
DTSTART:20261101T090000
END:STANDARD
END:VTIMEZONE
BEGIN:VEVENT
DTSTART;TZID=America/Los_Angeles:20260504T173000
DTEND;TZID=America/Los_Angeles:20260504T190000
DTSTAMP:20260423T053901
CREATED:20260420T230030Z
LAST-MODIFIED:20260420T230030Z
UID:10000868-1777915800-1777921200@nevadasbdc.org
SUMMARY:Listening Session on Cottage Foods & Farm-to-Fork
DESCRIPTION:  \nJoin us online to attend a critical public meeting regarding proposed regulatory changes that will directly impact the future of small-scale food production and agricultural sales in Nevada. This is a vital opportunity to stay informed on policy shifts that will affect your business and our local food system. \nJoin us for a collaborative session with key industry leaders and advocates:\n• Nevada Farm Bureau\n• Grown in Nevada/ Made in Nevada\n• University of Nevada\, Reno (UNR)\n\nWhy You Should Attend\nThe Nevada Farm Bureau is a dedicated organization committed to advocating for the needs of local producers. Grown in Nevada’s missiong is to foster the success of sustainable agriculture along with the support of the University of Nevada\, Reno and Nevada SBDC. This meeting serves as a platform to understand upcoming legislative or regulatory adjustments and to ensure our community’s voice is heard.\n\n\nDon’t miss your chance to be heard!
URL:https://nevadasbdc.org/event/listening-session-on-cottage-foods-farm-to-fork/
LOCATION:ONLINE\, STATEWIDE\, NV\, United States
CATEGORIES:Webinar
ORGANIZER;CN="Nevada SBDC":MAILTO:training@nevadasbdc.org
GEO:38.8026097;-116.419389
END:VEVENT
END:VCALENDAR