BEGIN:VCALENDAR
VERSION:2.0
PRODID:-//Nevada SBDC - ECPv6.10.1//NONSGML v1.0//EN
CALSCALE:GREGORIAN
METHOD:PUBLISH
X-ORIGINAL-URL:https://nevadasbdc.org
X-WR-CALDESC:Events for Nevada SBDC
REFRESH-INTERVAL;VALUE=DURATION:PT1H
X-Robots-Tag:noindex
X-PUBLISHED-TTL:PT1H
BEGIN:VTIMEZONE
TZID:America/Los_Angeles
BEGIN:DAYLIGHT
TZOFFSETFROM:-0800
TZOFFSETTO:-0700
TZNAME:PDT
DTSTART:20200308T100000
END:DAYLIGHT
BEGIN:STANDARD
TZOFFSETFROM:-0700
TZOFFSETTO:-0800
TZNAME:PST
DTSTART:20201101T090000
END:STANDARD
TZID:America/Los_Angeles
BEGIN:DAYLIGHT
TZOFFSETFROM:-0800
TZOFFSETTO:-0700
TZNAME:PDT
DTSTART:20200308T100000
END:DAYLIGHT
BEGIN:STANDARD
TZOFFSETFROM:-0700
TZOFFSETTO:-0800
TZNAME:PST
DTSTART:20201101T090000
END:STANDARD
END:VTIMEZONE
BEGIN:VEVENT
DTSTART;TZID=America/Los_Angeles:20200502T093000
DTEND;TZID=America/Los_Angeles:20200502T113000
DTSTAMP:20260425T035005
CREATED:20200421T155858Z
LAST-MODIFIED:20200421T155858Z
UID:10000009-1588411800-1588419000@nevadasbdc.org
SUMMARY:WEBINAR: Basics of Starting a Business
DESCRIPTION:Fundamental Concepts \nThis FREE 2-hour session will prepare you to decide whether to proceed immediately\, delay starting your business or not start the business. \nWe discuss: \n\nReasons to Start/Not Start a Business\,\nBusiness Opportunities\,\nBusiness Plans\,\nFinancing Your Business\,\nMarketing\,\nTypes of Business Organizations\,\nand Setting Up Your Business.\n\nWHEN:\nSaturday\, May 2nd\n9:30 – 11:30 AM \nWHERE:\nOnline
URL:https://nevadasbdc.org/event/webinar-basics-of-starting-a-business/
LOCATION:ONLINE\, STATEWIDE\, NV\, United States
CATEGORIES:Starting a Business
ORGANIZER;CN="SCORE Northern NV":MAILTO:scorennv@gmail.com
GEO:38.8026097;-116.419389
END:VEVENT
BEGIN:VEVENT
DTSTART;TZID=America/Los_Angeles:20200504T173000
DTEND;TZID=America/Los_Angeles:20200504T193000
DTSTAMP:20260425T035005
CREATED:20200421T160331Z
LAST-MODIFIED:20200421T160946Z
UID:10000010-1588613400-1588620600@nevadasbdc.org
SUMMARY:WEBINAR: Social Media and Advertising Through Social Media
DESCRIPTION:If They Don’t Know You\, They Can’t Buy from You! \nUse social media to increase your Internet presence and sales. Survey the basics of the top social media sites\, such as Facebook\, Pinterest\, Instagram\, and LinkedIn. Select the right words to drive traffic and create an ad campaign on Facebook. Be in the know with this ever-changing subject. \nWHEN:\nMonday\, May 4th\n5:30-7:30 PM \nWHERE:\nOnline
URL:https://nevadasbdc.org/event/social-media-and-advertising-through-social-media/
LOCATION:ONLINE\, STATEWIDE\, NV\, United States
CATEGORIES:Digital Marketing,Social Media
ORGANIZER;CN="SCORE Northern NV":MAILTO:scorennv@gmail.com
GEO:38.8026097;-116.419389
END:VEVENT
BEGIN:VEVENT
DTSTART;TZID=America/Los_Angeles:20200505T173000
DTEND;TZID=America/Los_Angeles:20200505T193000
DTSTAMP:20260425T035005
CREATED:20200421T160853Z
LAST-MODIFIED:20200421T160853Z
UID:10000111-1588699800-1588707000@nevadasbdc.org
SUMMARY:WEBINAR: Franchising and Small Business Ownership
DESCRIPTION:Much More Variety than Burgers and Fries! \nLearn the ins and outs of franchise ownership\, including: \n\n Five great franchises searching for new owners in Northern Nevada right now.\nDebunking franchise myths. Why be a small business owner?\n How franchising might fit into your business plan\n Consider various types of franchises and examples\n How to pick the right franchise\n\nWHEN:\nTuesday\, May 5\n5: 30 – 7:30 PM \nWHERE:\nOnline
URL:https://nevadasbdc.org/event/webinar-franchising-and-small-business-ownership/
LOCATION:ONLINE\, STATEWIDE\, NV\, United States
ORGANIZER;CN="SCORE Northern NV":MAILTO:scorennv@gmail.com
GEO:38.8026097;-116.419389
END:VEVENT
BEGIN:VEVENT
DTSTART;TZID=America/Los_Angeles:20200507T180000
DTEND;TZID=America/Los_Angeles:20200507T203000
DTSTAMP:20260425T035005
CREATED:20200421T161407Z
LAST-MODIFIED:20200421T161407Z
UID:10000112-1588874400-1588883400@nevadasbdc.org
SUMMARY:WEBINAR: Digital Marketing
DESCRIPTION:Want to drive more clients to your business? Learn techniques every successful business owner must use to create a successful digital marketing campaign: a great brand\, a targeted website and proven internet techniques. \nIncluded: \n\nWhat is effective digital marketing\,\nSEO basics\,\nDirectories and search engines\,\nSocial media\,\nEmail marketing\,\nand more!\n\nWHEN:\nThursday\, May 7\n6:00 – 8:30 PM \nWHERE:\nOnline
URL:https://nevadasbdc.org/event/webinar-digital-marketing-2/
LOCATION:ONLINE\, STATEWIDE\, NV\, United States
CATEGORIES:Digital Marketing
ORGANIZER;CN="SCORE Northern NV":MAILTO:scorennv@gmail.com
GEO:38.8026097;-116.419389
END:VEVENT
BEGIN:VEVENT
DTSTART;TZID=America/Los_Angeles:20200511T173000
DTEND;TZID=America/Los_Angeles:20200511T193000
DTSTAMP:20260425T035005
CREATED:20200421T161802Z
LAST-MODIFIED:20200421T161802Z
UID:10000114-1589218200-1589225400@nevadasbdc.org
SUMMARY:WEBINAR: How to Publish an eBook to Sell Online (Amazon)
DESCRIPTION:Have you ever wanted to publish an eBook or Print on Demand book? \nMaybe a how-to to help product sales\, maybe to make extra money\, or maybe\, to be an author. There are many reasons why. Learn how to create an eBook and sell it on your site or Amazon. \nWHEN:\nMonday\, May 11th\n5:30 – 7:30 PM \nWHERE:\nOnline
URL:https://nevadasbdc.org/event/webinar-how-to-publish-an-ebook-to-sell-online-amazon/
LOCATION:ONLINE\, STATEWIDE\, NV\, United States
ORGANIZER;CN="SCORE Northern NV":MAILTO:scorennv@gmail.com
GEO:38.8026097;-116.419389
END:VEVENT
BEGIN:VEVENT
DTSTART;TZID=America/Los_Angeles:20200514T173000
DTEND;TZID=America/Los_Angeles:20200514T193000
DTSTAMP:20260425T035005
CREATED:20200421T162205Z
LAST-MODIFIED:20200421T162205Z
UID:10000116-1589477400-1589484600@nevadasbdc.org
SUMMARY:WEBINAR: Google Analytics and Tag Manager
DESCRIPTION:Google Analytics Webinar to Grow Your Business \nWith data from FREE Google Analytics\, you can:\n• Understand what visitors to your website are doing\n• Measure success or identify problems\n• Learn how to improve your website’s performance. \nUse the insights from Google Analytics to grow your business. \nWe will go over: \n\nInstalling Google Analytics on your website\nDiscovering if visitors to your site are taking the actions you want them to\n\nWHEN:\nThursday\, May 14th\n5:30-7:30 PM \nWHERE:\nOnline
URL:https://nevadasbdc.org/event/webinar-google-analytics-and-tag-manager/
LOCATION:ONLINE\, STATEWIDE\, NV\, United States
CATEGORIES:Digital Marketing
ORGANIZER;CN="SCORE Northern NV":MAILTO:scorennv@gmail.com
GEO:38.8026097;-116.419389
END:VEVENT
BEGIN:VEVENT
DTSTART;TZID=America/Los_Angeles:20200518T173000
DTEND;TZID=America/Los_Angeles:20200518T193000
DTSTAMP:20260425T035005
CREATED:20200421T163445Z
LAST-MODIFIED:20200421T163445Z
UID:10000118-1589823000-1589830200@nevadasbdc.org
SUMMARY:WEBINAR: Internet Security for Server-Based Small Businesses
DESCRIPTION:CyberSecurity: Prevention\, Control\, and Recovery. \nProtect your enterprise assets and employees working from home. Don’t become a victim of the Ransom Virus or Phishing Attacks\, such as: IRS and “Mandatory” Online COVID-19 Test. \nIdentify current threats\, inventory potential home targets\, maximize security to the Cloud\, and monitor network traffic. Use NIST. Learn key backup and restoration methods. \nWHEN:\nMonday\, May 18th\n5:30 – 7:30 PM \nWHERE:\nOnline
URL:https://nevadasbdc.org/event/webinar-internet-security-for-server-based-small-businesses/
LOCATION:ONLINE\, STATEWIDE\, NV\, United States
ORGANIZER;CN="SCORE Northern NV":MAILTO:scorennv@gmail.com
GEO:38.8026097;-116.419389
END:VEVENT
BEGIN:VEVENT
DTSTART;TZID=America/Los_Angeles:20200520T100000
DTEND;TZID=America/Los_Angeles:20200520T110000
DTSTAMP:20260425T035005
CREATED:20200514T175007Z
LAST-MODIFIED:20200612T204654Z
UID:10000129-1589968800-1589972400@nevadasbdc.org
SUMMARY:WEBINAR: Getting Back to Work in Nevada: The Restaurant Industry
DESCRIPTION:Your restaurant operations may look very different as you begin to recover from COVID-19 impacts. Join us for a conversation as Chris Lynch of the Nevada Business Environmental Program provides an update on required guidelines for reopening under Governor Sisolak’s Phase 1 Reopening Plan; perspective from Reno restauranteur\, Mark Estee\, about the changes he is making to reopen; and business tips from Rod Jorgensen of the Nevada SBDC \n  \n  \nWHEN:\nWednesday\, May 20th\n10:00 – 11:00 AM \n \n  \nFunded in part through a Cooperative Agreement with the U.S. Small Business Administration.
URL:https://nevadasbdc.org/event/webinar-getting-back-to-work-in-nevada-the-restaurant-industry/
LOCATION:ONLINE\, STATEWIDE\, NV\, United States
CATEGORIES:Disaster Relief
ORGANIZER;CN="Nevada SBDC":MAILTO:admin@nevadasbdc.org
GEO:38.8026097;-116.419389
END:VEVENT
BEGIN:VEVENT
DTSTART;TZID=America/Los_Angeles:20200520T140000
DTEND;TZID=America/Los_Angeles:20200520T153000
DTSTAMP:20260425T035005
CREATED:20200320T165030Z
LAST-MODIFIED:20200612T200014Z
UID:10000002-1589983200-1589988600@nevadasbdc.org
SUMMARY:WEBINAR: "Other Transaction Agreements" with the U.S. Department of Defense (DOD)
DESCRIPTION:PTAC continues to provide a variety of relevant webinars in addition to the monthly “Where’s the Contract” series  to assist the small business community with government contracting information and resources.  The monthly “Where’s the Contract” series will be provided via WEBINAR until PTAC receives official notification to go back to live workshops. Please note that registration for webinars is different from registrations for the live workshops.  \nJoin PTAC’s Director Joan Rueben  as she discusses “Other Transaction Agreements” (OTAs)\, a special vehicle used by the DOD for obtaining or advancing research and development (R&D)\, prototypes\, etc. \n \nWho should attend: Interested Nevada small businesses \n  \n    \nThis Procurement Technical Assistance Center is funded in part through a cooperative agreement with the Defense Logistics Agency.
URL:https://nevadasbdc.org/event/other-transaction-agreements-may-2020/
LOCATION:ONLINE\, STATEWIDE\, NV\, United States
CATEGORIES:Government Contracting,Networking,Resource Information
ORGANIZER;CN="APEX Accelerator Northern Nevada":MAILTO:procurement@diversifynevada.com
GEO:38.8026097;-116.419389
END:VEVENT
BEGIN:VEVENT
DTSTART;TZID=America/Los_Angeles:20200521T180000
DTEND;TZID=America/Los_Angeles:20200521T203000
DTSTAMP:20260425T035005
CREATED:20200421T163954Z
LAST-MODIFIED:20200421T163954Z
UID:10000121-1590084000-1590093000@nevadasbdc.org
SUMMARY:WEBINAR: Wordpress - An In-Depth Workshop
DESCRIPTION:Review the WordPress dashboard in depth to help you create your website. \nLearn the basics of website design\, picking a template\, template customization\, review of widgets and necessary plugins. Learn to work with a page editor and end up with the website you love. \nRequirements: \n\npurchased URL/host\,\nworking download of WordPress\,\nloaded a template\nand correct password to get into your website.\n\nWHEN:\nThursday\, May 21st\n6:00 – 8:30 PM \nWHERE:\nOnline
URL:https://nevadasbdc.org/event/webinar-wordpress-an-in-depth-workshop/
LOCATION:ONLINE\, STATEWIDE\, NV\, United States
CATEGORIES:Digital Marketing
ORGANIZER;CN="SCORE Northern NV":MAILTO:scorennv@gmail.com
GEO:38.8026097;-116.419389
END:VEVENT
BEGIN:VEVENT
DTSTART;TZID=America/Los_Angeles:20200526T180000
DTEND;TZID=America/Los_Angeles:20200526T203000
DTSTAMP:20260425T035005
CREATED:20200421T164416Z
LAST-MODIFIED:20200421T164416Z
UID:10000123-1590516000-1590525000@nevadasbdc.org
SUMMARY:WEBINAR: Social Media and Advertising Through Social Media
DESCRIPTION:Tools to Drive Traffic and Sales \nIf They Don’t Know You\, They Can’t Buy from You! \nUse social media to increase your Internet presence and sales. Survey the basics of the top social media sites\, such as \n\nFacebook\,\nPinterest\,\nInstagram\,\nand LinkedIn.\n\nSelect the right words to drive traffic and create an ad campaign on Facebook. Be in the know with this ever-changing subject. \nWHEN:\nTuesday\, May 26th\n6:00 – 8:30 PM \nWHERE:\nOnline
URL:https://nevadasbdc.org/event/webinar-social-media-and-advertising-through-social-media/
LOCATION:ONLINE\, STATEWIDE\, NV\, United States
CATEGORIES:Digital Marketing,Social Media
ORGANIZER;CN="SCORE Northern NV":MAILTO:scorennv@gmail.com
GEO:38.8026097;-116.419389
END:VEVENT
BEGIN:VEVENT
DTSTART;TZID=America/Los_Angeles:20200528T173000
DTEND;TZID=America/Los_Angeles:20200528T193000
DTSTAMP:20260425T035005
CREATED:20200421T164725Z
LAST-MODIFIED:20200421T164725Z
UID:10000125-1590687000-1590694200@nevadasbdc.org
SUMMARY:WEBINAR: Search Engine Optimization to Bring Your Ideal Client to You
DESCRIPTION:Help Your Target Audience Find You! \nWant to know how people rank on the top of search results in Google? Learn how to research the popular terms people are searching that drives the most traffic. Also\, learn how to create and structure web content to improve your chances of appearing high in search engine results using FREE tools and theories. \nWHEN:\nThursday\, May 28th\n5:30 – 7:30 PM \nWHERE:\nOnline
URL:https://nevadasbdc.org/event/webinar-search-engine-optimization-to-bring-your-ideal-client-to-you/
LOCATION:ONLINE\, STATEWIDE\, NV\, United States
CATEGORIES:Digital Marketing
ORGANIZER;CN="SCORE Northern NV":MAILTO:scorennv@gmail.com
GEO:38.8026097;-116.419389
END:VEVENT
END:VCALENDAR