BEGIN:VCALENDAR
VERSION:2.0
PRODID:-//Nevada SBDC - ECPv6.10.1//NONSGML v1.0//EN
CALSCALE:GREGORIAN
METHOD:PUBLISH
X-ORIGINAL-URL:https://nevadasbdc.org
X-WR-CALDESC:Events for Nevada SBDC
REFRESH-INTERVAL;VALUE=DURATION:PT1H
X-Robots-Tag:noindex
X-PUBLISHED-TTL:PT1H
BEGIN:VTIMEZONE
TZID:America/Los_Angeles
BEGIN:DAYLIGHT
TZOFFSETFROM:-0800
TZOFFSETTO:-0700
TZNAME:PDT
DTSTART:20250309T100000
END:DAYLIGHT
BEGIN:STANDARD
TZOFFSETFROM:-0700
TZOFFSETTO:-0800
TZNAME:PST
DTSTART:20251102T090000
END:STANDARD
END:VTIMEZONE
BEGIN:VEVENT
DTSTART;TZID=America/Los_Angeles:20250107T180000
DTEND;TZID=America/Los_Angeles:20250107T193000
DTSTAMP:20260423T123225
CREATED:20241204T205952Z
LAST-MODIFIED:20241212T173640Z
UID:10000713-1736272800-1736278200@nevadasbdc.org
SUMMARY:Nevada SBDC & IRS Small Business Tax Compliance Workshop Series
DESCRIPTION:Ready to take your business to the next level? Join us for an engaging session packed with valuable insights on the critical legal and financial steps for starting and growing your business. Learn how to obtain an EIN\, maintain accurate records\, choose the best bookkeeping system\, and select the ideal business structure. \nWe’ll explore powerful tax-saving strategies\, including Schedule C deductions\, home office expenses\, and tax compliance tips. Plus\, discover the essentials of the Beneficial Ownership Information Report (BOIR) and how it impacts your business. Gain essential knowledge on federal employment tax rules\, classifying workers\, payroll management\, and the tax considerations when hiring both resident and nonresident aliens. Don’t miss this chance to set your business up for success—register today! \n\n\n\nSession #1\n1/7/2025\n6:00 PM\n– 7:30 PM (PST)\n\n\n\nSession #2\n1/14/2025\n6:00 PM\n– 7:30 PM (PST)\n\n\n\nSession #3\n1/20/2025\n6:00 PM\n– 7:30 PM (PST)\n\n\n\nSession #4\n1/28/2025\n6:00 PM\n– 7:30 PM (PST)\n\n\n\nSession #5\n2/4/2025\n6:00 PM\n– 7:30 PM (PST)\n\n\n\nSession #6\n2/11/2025\n6:00 PM\n– 7:30 PM (PST)\n\n\n\n\n\n\n\n\n\n\n\n\n\n\n\n\n\nLesson 1: Federal Taxes and Your New Business \nLesson 2: Schedule C and Other Small Business Taxes \nLesson 3: Filing and Paying Taxes Electronically \nLesson 4: Business Use of Your Home \nLesson 5: Federal Taxes When Hiring Employees or Independent Contractors \nLesson 6: Managing Payroll to Withhold the Correct Amount of Taxes \nLesson 7: Tax Deposits and Filing a Return to Report Payroll Taxes \nLesson 8: Hiring People Who Live in the U.S. Who Aren’t Citizens \n \nFunded (in part) through a Cooperative Agreement with the U.S. Small Business Administration. All opinions\, conclusions\, and/or recommendations expressed herein are those of the author(s) and do not necessarily reflect the views of the SBA.
URL:https://nevadasbdc.org/event/nevada-sbdc-irs-small-business-tax-compliance-workshop-series/
LOCATION:8400 W. Sunset Rd #300\, 8400 W Sunset Rd #300\, Las Vegas\, NV\, 89113\, United States
CATEGORIES:Accounting/Finance
ORGANIZER;CN="Nevada SBDC":MAILTO:training@nevadasbdc.org
GEO:36.0712818;-115.2754368
X-APPLE-STRUCTURED-LOCATION;VALUE=URI;X-ADDRESS=8400 W. Sunset Rd #300 8400 W Sunset Rd #300 Las Vegas NV 89113 United States;X-APPLE-RADIUS=500;X-TITLE=8400 W Sunset Rd #300:geo:-115.2754368,36.0712818
END:VEVENT
BEGIN:VEVENT
DTSTART;TZID=America/Los_Angeles:20250115T140000
DTEND;TZID=America/Los_Angeles:20250115T150000
DTSTAMP:20260423T123225
CREATED:20240701T231552Z
LAST-MODIFIED:20240701T231552Z
UID:10000682-1736949600-1736953200@nevadasbdc.org
SUMMARY:Where's the Contract? Government-Led Innovation Programs (GIPs) for Innovative Businesses
DESCRIPTION:A Nevada APEX Accelerator overview will be shared\, plus learn about some Government-led Innovation Programs\, regardless if a company is an experienced government contractor or not. \nPresenter: presented by Jeremiah Mesquita\, Government Contracts Advisor\, Nevada APEX Accelerator \nRegister by no later than Jan. 14th\, only using the GoToWebinar link. \n“Where’s The Contract?” is a no-charge monthly training program designed to put Nevada businesses on the path to securing government contracts and subcontracts and diversifying revenue sources. \nRegarding the Nevada APEX Accelerator [former Nevada Procurement Technical Assistance Center (PTAC)] (see our webpage at https://goed.nv.gov/programs/nevada-apex-accelerator/ to become a client and follow us on LinkedIn at https://www.linkedin.com): This APEX Accelerator is funded in part through a cooperative agreement with the Department of Defense. Please note that APEX is not an acronym. \nRegarding the Nevada SBDC: The Nevada SBDC is funded in part through a Cooperative Agreement with the U.S. Small Business Administration. All services are extended to the public on a non-discriminatory basis. Reasonable accommodations for persons with mental or physical disabilities will be made if requested at least two weeks in advance. Contact the Nevada SBDC State Office at (800) 240-7094 to make arrangements. SBA cannot endorse any products\, opinions or services of any external parties or activities.
URL:https://nevadasbdc.org/event/wheres-the-contract-government-led-innovation-programs-gips-for-innovative-businesses/
LOCATION:ONLINE\, STATEWIDE\, NV\, United States
CATEGORIES:Resource Information,Webinar
ORGANIZER;CN="APEX Accelerator Northern Nevada":MAILTO:procurement@diversifynevada.com
GEO:38.8026097;-116.419389
END:VEVENT
BEGIN:VEVENT
DTSTART;TZID=America/Los_Angeles:20250115T173000
DTEND;TZID=America/Los_Angeles:20250115T190000
DTSTAMP:20260423T123225
CREATED:20241204T204850Z
LAST-MODIFIED:20241205T205050Z
UID:10000712-1736962200-1736967600@nevadasbdc.org
SUMMARY:Incubadora de Empresas - Curso de 6 Semanas
DESCRIPTION:El Centro de Desarrollo de Pequeñas Empresas de Nevada los invita a asistir a un taller presencial de 6 semanas en español. Usted tendrá la oportunidad de escuchar a profesionales y asesores de negocios que le ayudarán a navegar\, manejar y crecer su negocio. \nNombre: Carlos Mejia Castillo\nTítulo: Asesor Principal del Desarrollo Empresarial \nCarlos Mejia Castillo es el Asesor Principal del Desarrollo Empresarial para el Centro de Desarrollo para Pequeñas Empresas. Carlos se graduó de la Universidad de Nevada\, Las Vegas (UNLV) con una licenciatura en Ciencias en Administración de Empresas con especialización en Economía. Un graduado universitario de primera generación y un soñador (en todos los sentidos de la palabra). Desde el inicio del Programa de Conexión para Pequeñas Empresas (Small Business Connector Program)\, Carlos ha gestionado la oficina satélite del SBDC en el Ayuntamiento de North Las Vegas\, trabajando estrechamente con el equipo de Desarrollo Económico de la ciudad\, junto con el resto de los Conectores para Pequeñas Empresas\, para brindar apoyo a emprendedores aspirantes y dueños de negocios actuales en todas las etapas. Carlos también dedica su tiempo y esfuerzos a conectar con diversas comunidades minoritarias\, creando un puente entre ellas y el ecosistema local de pequeñas empresas. \nNombre: Jeny Zendejas-Chavez\nTítulo: Asistente de Proyectos y Asesora del Desarrollo Empresarial \nJeny Zendejas asume el rol de Asistente de Proyectos y asesora de desarrollo empresarial en la oficina del Norte de Las Vegas\, donde desempeña un papel crucial en la oficina del Centro de Desarrollos para Pequeñas Empresas (Nevada SBDC). A lo largo de su trayectoria profesional\, Jeny ha adquirido un espectro diverso de experiencias\, abarcando los ámbitos del sector de salud\, educación\, y administración de negocios. \nSu base académica incluye una licenciatura en Gestión de la Salud y una maestría en Administración Pública\, con un enfoque especializado en agencias gubernamentales. El compromiso inquebrantable de Jeny con la comunidad está profundamente arraigado en su condición de graduada universitaria de primera generación y soñadora comprometida a respaldar e impactar positivamente a su comunidad. Su enfoque actual implica mejorar activamente la eficiencia y la fluidez del programa y proveer asesoría empresarial aprovechando sus amplios conocimientos y experiencia. \n\n\n\nSession #1\n1/15/2025\n5:30 PM\n– 7:00 PM (PST)\n\n\n\nSession #2\n1/22/2025\n5:30 PM\n– 7:00 PM (PST)\n\n\n\nSession #3\n1/29/2025\n5:30 PM\n– 7:00 PM (PST)\n\n\n\nSession #4\n2/5/2025\n5:30 PM\n– 7:00 PM (PST)\n\n\n\nSession #5\n2/12/2025\n5:30 PM\n– 7:00 PM (PST)\n\n\n\nSession #6\n2/19/2025\n5:30 PM\n– 7:00 PM (PST)\n\n\n\nFunded (in part) through a Cooperative Agreement with the U.S. Small Business Administration. All opinions\, conclusions\, and/or recommendations expressed herein are those of the author(s) and do not necessarily reflect the views of the SBA.
URL:https://nevadasbdc.org/event/business-incubator/
LOCATION:495 S Main St\, 495 S Main St\, Las Vegas\, 89101\, United States
ORGANIZER;CN="Nevada SBDC":MAILTO:training@nevadasbdc.org
GEO:36.1674401;-115.1484325
X-APPLE-STRUCTURED-LOCATION;VALUE=URI;X-ADDRESS=495 S Main St 495 S Main St Las Vegas 89101 United States;X-APPLE-RADIUS=500;X-TITLE=495 S Main St:geo:-115.1484325,36.1674401
END:VEVENT
BEGIN:VEVENT
DTSTART;TZID=America/Los_Angeles:20250130T100000
DTEND;TZID=America/Los_Angeles:20250130T110000
DTSTAMP:20260423T123225
CREATED:20240701T231907Z
LAST-MODIFIED:20240701T231907Z
UID:10000683-1738231200-1738234800@nevadasbdc.org
SUMMARY:Where's the Contract? Understanding Industrial Base Analysis and Sustainment (IBAS) at the Federal Government Level: Essential Information for Your Business
DESCRIPTION:A Nevada APEX Accelerator overview will be shared\, and learn about the IBAS Program which significantly invests heavily in six priority industrial capability development areas. The program’s mission is to strengthen the competitive posture of the U.S. Defense Industrial Base in the era of global competition. \nPresenter: Nate Jackson\, Deputy Director\, Nevada APEX Accelerator \nRegister by no later than Jan. 29th\, only using the GoToWebinar link. \n“Where’s The Contract?” is a no-charge monthly training program designed to put Nevada businesses on the path to securing government contracts and subcontracts and diversifying revenue sources. \nRegarding the Nevada APEX Accelerator [former Nevada Procurement Technical Assistance Center (PTAC)] (see our webpage at https://goed.nv.gov/programs/nevada-apex-accelerator/ to become a client and follow us on LinkedIn at https://www.linkedin.com): This APEX Accelerator is funded in part through a cooperative agreement with the Department of Defense. Please note that APEX is not an acronym. \nRegarding the Nevada SBDC: The Nevada SBDC is funded in part through a Cooperative Agreement with the U.S. Small Business Administration. All services are extended to the public on a non-discriminatory basis. Reasonable accommodations for persons with mental or physical disabilities will be made if requested at least two weeks in advance. Contact the Nevada SBDC State Office at (800) 240-7094 to make arrangements. SBA cannot endorse any products\, opinions or services of any external parties or activities.
URL:https://nevadasbdc.org/event/wheres-the-contract-understanding-industrial-base-analysis-and-sustainment-ibas-at-the-federal-government-level-essential-information-for-your-business/
LOCATION:ONLINE\, STATEWIDE\, NV\, United States
CATEGORIES:Government Contracting,Resource Information,Webinar
ORGANIZER;CN="APEX Accelerator Northern Nevada":MAILTO:procurement@diversifynevada.com
GEO:38.8026097;-116.419389
END:VEVENT
END:VCALENDAR