BEGIN:VCALENDAR
VERSION:2.0
PRODID:-//Nevada SBDC - ECPv6.10.1//NONSGML v1.0//EN
CALSCALE:GREGORIAN
METHOD:PUBLISH
X-ORIGINAL-URL:https://nevadasbdc.org
X-WR-CALDESC:Events for Nevada SBDC
REFRESH-INTERVAL;VALUE=DURATION:PT1H
X-Robots-Tag:noindex
X-PUBLISHED-TTL:PT1H
BEGIN:VTIMEZONE
TZID:America/Los_Angeles
BEGIN:DAYLIGHT
TZOFFSETFROM:-0800
TZOFFSETTO:-0700
TZNAME:PDT
DTSTART:20250309T100000
END:DAYLIGHT
BEGIN:STANDARD
TZOFFSETFROM:-0700
TZOFFSETTO:-0800
TZNAME:PST
DTSTART:20251102T090000
END:STANDARD
END:VTIMEZONE
BEGIN:VEVENT
DTSTART;TZID=America/Los_Angeles:20250205T170000
DTEND;TZID=America/Los_Angeles:20250205T180000
DTSTAMP:20260423T161010
CREATED:20241219T182745Z
LAST-MODIFIED:20241219T182745Z
UID:10000714-1738774800-1738778400@nevadasbdc.org
SUMMARY:Construction 1.0 Workshop
DESCRIPTION:Join us\, in collaboration with UNLV’s Office of Economic Development\, and the Nevada State Contractors Board\, for a dynamic\, in-person\, 6-week course designed to guide you through the construction industry. Gain essential insights into crucial construction business topics and receive a step-by-step walkthrough of the Nevada State Contractors Board application process. This course offers a unique opportunity to connect with industry professionals\, access expert support\, and utilize resources to help you secure your contractor’s license. Don’t miss out on this chance to build a successful future in construction! \nWith over 25 years of experience in finance and banking\, I have spent several years supporting entrepreneurs\, particularly in the construction industry\, as they establish and expand their businesses. My deep industry knowledge\, combined with proficiency in Spanish and strong communication skills\, allows me to provide expert guidance on business formation and operations. Passionate about addressing the misinformation often faced by small businesses\, I am committed to educating entrepreneurs on effective strategies for success. \n  \n\n\n\nSession #1\n2/5/2025\n5:00 PM\n– 6:30 PM (PST)\n\n\n\nSession #2\n2/12/2025\n5:00 PM\n– 6:30 PM (PST)\n\n\n\nSession #3\n2/19/2025\n5:00 PM\n– 6:30 PM (PST)\n\n\n\nSession #4\n2/26/2025\n5:00 PM\n– 6:30 PM (PST)\n\n\n\nSession #5\n3/5/2025\n5:00 PM\n– 6:30 PM (PST)\n\n\n\nSession #6\n3/12/2025\n5:00 PM\n– 6:30 PM (PDT)\n\n\n\n\n \nThe Nevada Small Business Development Center is funded (in part) through a Cooperative Agreement with the U.S. Small Business Administration. All opinions\, conclusions\, and/or recommendations expressed herein are those of the author(s) and do not necessarily reflect the views of the SBA. All services are extended to the public on a non-discriminatory basis. Reasonable accommodations for persons with mental or physical disabilities will be made if requested at least two weeks in advance. Contact your local Nevada SBDC office or the State Office at (800) 240-7094 to make arrangements. SBA cannot endorse any products\, opinions or services of any external parties or activities.
URL:https://nevadasbdc.org/event/construction-1-0-workshop-5/
LOCATION:8400 W. Sunset Rd #300\, 8400 W Sunset Rd #300\, Las Vegas\, NV\, 89113\, United States
CATEGORIES:Resource Information,Starting a Business
ORGANIZER;CN="Nevada SBDC":MAILTO:training@nevadasbdc.org
GEO:36.0712818;-115.2754368
X-APPLE-STRUCTURED-LOCATION;VALUE=URI;X-ADDRESS=8400 W. Sunset Rd #300 8400 W Sunset Rd #300 Las Vegas NV 89113 United States;X-APPLE-RADIUS=500;X-TITLE=8400 W Sunset Rd #300:geo:-115.2754368,36.0712818
END:VEVENT
BEGIN:VEVENT
DTSTART;TZID=America/Los_Angeles:20250206T170000
DTEND;TZID=America/Los_Angeles:20250206T180000
DTSTAMP:20260423T161010
CREATED:20241219T182945Z
LAST-MODIFIED:20241219T182945Z
UID:10000715-1738861200-1738864800@nevadasbdc.org
SUMMARY:Construction 2.0 Workshop
DESCRIPTION:Join us\, in collaboration with UNLV’s Office of Economic Development\, and the Nevada State Contractors Board\, for an empowering 6-week\, in-person course dedicated to construction marketing! This program covers essential strategies for winning contracts\, establishing a strong marketing foundation\, and creating impactful capability statements. Learn directly from seasoned professionals\, connect with experienced contractors\, and benefit from expert guidance from business advisors. Don’t miss this opportunity to sharpen your skills\, expand your network\, and gain the tools to elevate your contracting business! \nWith over 25 years of experience in finance and banking\, I have spent several years supporting entrepreneurs\, particularly in the construction industry\, as they establish and expand their businesses. My deep industry knowledge\, combined with proficiency in Spanish and strong communication skills\, allows me to provide expert guidance on business formation and operations. Passionate about addressing the misinformation often faced by small businesses\, I am committed to educating entrepreneurs on effective strategies for success. \nDate/Time: \n\n\n\nSession #1\n2/6/2025\n5:00 PM\n– 6:30 PM (PST)\n\n\n\nSession #2\n2/13/2025\n5:00 PM\n– 6:30 PM (PST)\n\n\n\nSession #3\n2/20/2025\n5:00 PM\n– 6:30 PM (PST)\n\n\n\nSession #4\n2/27/2025\n5:00 PM\n– 6:30 PM (PST)\n\n\n\nSession #5\n3/6/2025\n5:00 PM\n– 6:30 PM (PST)\n\n\n\nSession #6\n3/13/2025\n5:00 PM\n– 6:30 PM (PDT)\n\n\n\n \nThe Nevada Small Business Development Center is funded (in part) through a Cooperative Agreement with the U.S. Small Business Administration. All opinions\, conclusions\, and/or recommendations expressed herein are those of the author(s) and do not necessarily reflect the views of the SBA. All services are extended to the public on a non-discriminatory basis. Reasonable accommodations for persons with mental or physical disabilities will be made if requested at least two weeks in advance. Contact your local Nevada SBDC office or the State Office at (800) 240-7094 to make arrangements. SBA cannot endorse any products\, opinions or services of any external parties or activities.
URL:https://nevadasbdc.org/event/construction-2-0-workshop-4/
LOCATION:8400 W. Sunset Rd #300\, 8400 W Sunset Rd #300\, Las Vegas\, NV\, 89113\, United States
ORGANIZER;CN="Nevada SBDC":MAILTO:training@nevadasbdc.org
GEO:36.0712818;-115.2754368
X-APPLE-STRUCTURED-LOCATION;VALUE=URI;X-ADDRESS=8400 W. Sunset Rd #300 8400 W Sunset Rd #300 Las Vegas NV 89113 United States;X-APPLE-RADIUS=500;X-TITLE=8400 W Sunset Rd #300:geo:-115.2754368,36.0712818
END:VEVENT
BEGIN:VEVENT
DTSTART;TZID=America/Los_Angeles:20250208T100000
DTEND;TZID=America/Los_Angeles:20250208T110000
DTSTAMP:20260423T161010
CREATED:20241220T233319Z
LAST-MODIFIED:20241220T233319Z
UID:10000716-1739008800-1739012400@nevadasbdc.org
SUMMARY:AI Essentials for Small Business: Marketing Made Simple
DESCRIPTION:Are You Hesitant to Use AI in Your Marketing?\nYou’re not alone. Many small business owners and startups face these challenges: \n\nNot knowing where to start or how to use AI the right way.\nFeeling like AI tools are too generic\, robotic\, and don’t perform.\nStruggling with too many tools and not knowing which ones are worth it.\nDealing with tech overwhelm and no clear strategy to tie it all together.\nWorrying about the ethical concerns of AI and how to use it responsibly.\nFeeling like everyone teaching AI just wants to profit off of you without really helping.\n\nThe Solution? A Clear\, Ethical\, and Practical Approach to AI in Marketing.\nJoin our free AI Essentials for Small Business workshop series to: \n\nUnderstand how to use AI tools effectively and ethically.\nLearn strategies to make AI content feel personal\, not robotic.\nSimplify your tech stack with tools that actually work.\nDiscover a step-by-step strategy tailored to your business goals.\n\nWorkshop 1: Foundations of Marketing Strategy with AI\nWorkshop 2: Building a Brand Strategy with AI\nWorkshop 3: Content Creation Made Easy with AI\nWorkshop 4: Automating Your Marketing with AI\nWorkshop 5: Creating a 90-Day Marketing Plan with AI\nDate/Time: \n\n\n\nSession #1\n2/8/2025\n10:00 AM\n– 11:00 AM (PST)\n\n\n\nSession #2\n2/15/2025\n10:00 AM\n– 11:00 AM (PST)\n\n\n\nSession #3\n2/22/2025\n10:00 AM\n– 11:00 AM (PST)\n\n\n\nSession #4\n3/1/2025\n10:00 AM\n– 11:00 AM (PST)\n\n\n\nSession #5\n3/8/2025\n10:00 AM\n– 11:00 AM (PST)\n\n\n\n \nThe Nevada Small Business Development Center is funded (in part) through a Cooperative Agreement with the U.S. Small Business Administration. All opinions\, conclusions\, and/or recommendations expressed herein are those of the author(s) and do not necessarily reflect the views of the SBA. All services are extended to the public on a non-discriminatory basis. Reasonable accommodations for persons with mental or physical disabilities will be made if requested at least two weeks in advance. Contact your local Nevada SBDC office or the State Office at (800) 240-7094 to make arrangements. SBA cannot endorse any products\, opinions or services of any external parties or activities.
URL:https://nevadasbdc.org/event/ai-essentials-for-small-business-marketing-made-simple/
LOCATION:8400 W. Sunset Rd #300\, 8400 W Sunset Rd #300\, Las Vegas\, NV\, 89113\, United States
CATEGORIES:Tech Training
ORGANIZER;CN="Nevada SBDC":MAILTO:training@nevadasbdc.org
GEO:36.0712818;-115.2754368
X-APPLE-STRUCTURED-LOCATION;VALUE=URI;X-ADDRESS=8400 W. Sunset Rd #300 8400 W Sunset Rd #300 Las Vegas NV 89113 United States;X-APPLE-RADIUS=500;X-TITLE=8400 W Sunset Rd #300:geo:-115.2754368,36.0712818
END:VEVENT
BEGIN:VEVENT
DTSTART;TZID=America/Los_Angeles:20250212T100000
DTEND;TZID=America/Los_Angeles:20250212T110000
DTSTAMP:20260423T161010
CREATED:20240701T232313Z
LAST-MODIFIED:20240701T232313Z
UID:10000684-1739354400-1739358000@nevadasbdc.org
SUMMARY:Where's the Contract? Resources for Veteran-Owned Businesses
DESCRIPTION:A Nevada APEX Accelerator overview will be shared\, plus learn about some information veteran-owned businesses will want to know relative to selling goods and/or services in the public sector. \nPresenter: Bruce Coney\, Government Contracts Advisor\, Nevada APEX Accelerator \nRegister by no later than Feb. 11th\, only using the GoToWebinar link. \n“Where’s The Contract?” is a no-charge monthly training program designed to put Nevada businesses on the path to securing government contracts and subcontracts and diversifying revenue sources. \nRegarding the Nevada APEX Accelerator [former Nevada Procurement Technical Assistance Center (PTAC)] (see our webpage at https://goed.nv.gov/programs/nevada-apex-accelerator/ to become a client and follow us on LinkedIn at https://www.linkedin.com): This APEX Accelerator is funded in part through a cooperative agreement with the Department of Defense. Please note that APEX is not an acronym. \nRegarding the Nevada SBDC: The Nevada SBDC is funded in part through a Cooperative Agreement with the U.S. Small Business Administration. All services are extended to the public on a non-discriminatory basis. Reasonable accommodations for persons with mental or physical disabilities will be made if requested at least two weeks in advance. Contact the Nevada SBDC State Office at (800) 240-7094 to make arrangements. SBA cannot endorse any products\, opinions or services of any external parties or activities.
URL:https://nevadasbdc.org/event/wheres-the-contract-resources-for-veteran-owned-businesses-5/
LOCATION:ONLINE\, STATEWIDE\, NV\, United States
CATEGORIES:Government Contracting,Resource Information,Webinar
ORGANIZER;CN="APEX Accelerator Northern Nevada":MAILTO:procurement@diversifynevada.com
GEO:38.8026097;-116.419389
END:VEVENT
BEGIN:VEVENT
DTSTART;TZID=America/Los_Angeles:20250220T090000
DTEND;TZID=America/Los_Angeles:20250220T220000
DTSTAMP:20260423T161010
CREATED:20250117T212245Z
LAST-MODIFIED:20250117T212245Z
UID:10000718-1740042000-1740088800@nevadasbdc.org
SUMMARY:Restaurant Revenue Management Workshop
DESCRIPTION:Join us for an engaging and insightful workshop on Restaurant Revenue Management\, led by industry expert and culinary innovator\, Chef Krit Sempolkrung. Discover practical strategies to maximize your restaurant’s profitability and create unforgettable guest experiences. Whether you’re a seasoned restaurateur or just starting\, this workshop will equip you with actionable tools to elevate your business. \nWhat You’ll Learn: \nMenu Design and Engineering: Optimize your menu for profitability and clarity. Optimizing Restaurant Space and Pricing: Tailor your restaurant’s layout and pricing to attract and retain the right audience. Managing Meal Duration and Reservations: Balance guest flow for maximum efficiency. Building Demand During Slow Periods: Boost traffic with creative promotions\, partnerships\, and digital marketing. Hospitality and Showmanship: Enhance customer service to leave a lasting impression. \nMaking the Most of Labor: Invest in training and systems to create a happy\, efficient team. \nKnown as the “Food and Beverage Guy\,” Chef Krit has served high-profile clients including Mel Gibson\, Taylor Swift\, and the Las Vegas Raiders. His culinary ventures include Secret Creamery\, the Official Golden Knights Ice Cream during their Stanley Cup win. With over a decade of experience at major events like EDC and Life is Beautiful\, Chef Krit brings unmatched expertise and passion. \n \nThe Nevada Small Business Development Center is funded (in part) through a Cooperative Agreement with the U.S. Small Business Administration. All opinions\, conclusions\, and/or recommendations expressed herein are those of the author(s) and do not necessarily reflect the views of the SBA. All services are extended to the public on a non-discriminatory basis. Reasonable accommodations for persons with mental or physical disabilities will be made if requested at least two weeks in advance. Contact your local Nevada SBDC office or the State Office at (800) 240-7094 to make arrangements. SBA cannot endorse any products\, opinions or services of any external parties or activities.
URL:https://nevadasbdc.org/event/restaurant-revenue-management-workshop/
LOCATION:8400 W. Sunset Rd #300\, 8400 W Sunset Rd #300\, Las Vegas\, NV\, 89113\, United States
ORGANIZER;CN="Nevada SBDC":MAILTO:training@nevadasbdc.org
GEO:36.0712818;-115.2754368
X-APPLE-STRUCTURED-LOCATION;VALUE=URI;X-ADDRESS=8400 W. Sunset Rd #300 8400 W Sunset Rd #300 Las Vegas NV 89113 United States;X-APPLE-RADIUS=500;X-TITLE=8400 W Sunset Rd #300:geo:-115.2754368,36.0712818
END:VEVENT
BEGIN:VEVENT
DTSTART;TZID=America/Los_Angeles:20250221T093000
DTEND;TZID=America/Los_Angeles:20250221T110000
DTSTAMP:20260423T161010
CREATED:20250113T193134Z
LAST-MODIFIED:20250113T193134Z
UID:10000717-1740130200-1740135600@nevadasbdc.org
SUMMARY:Quickbooks Online en Español 1.0
DESCRIPTION:¿Eres parte del más del 80% de propietarios de pequeñas y medianas empresas que utilizan QuickBooks\, pero sientes que no estás aprovechando todo su potencial? QuickBooks Online es diferente de la versión Desktop y tiene muchas funciones que operan de manera distinta. Con solo unos minutos\, puedes comenzar a personalizarlo para satisfacer las necesidades específicas de tu negocio. \n¡Únete a nuestra serie de 6 sesiones de QuickBooks Online y domina esta herramienta para gestionar tu empresa con mayor eficiencia! \nDetalles del Taller\n\nInicio: Viernes\, 21 de febrero\nHorario: 9:30 a.m. – 11:30 a.m.\nFrecuencia: Una vez a la semana\, todos los Viernes\, por 6 semanas\nLugar: Alexander Library (1755 W Alexander Rd\, North Las Vegas\, NV 89032)\nFormato: Taller práctico con expertos invitados a lo largo del taller\n\nTemas Semanales \n\nSemana 1: Introducción – Cómo empezar con QuickBooks Online.\nSemana 2: Contabilidad básica – Bookkeeping.\nSemana 3: Principios de contabilidad esenciales.\nSemana 4: Funciones que ahorran tiempo y aumentan la productividad.\nSemana 5: Cómo rastrear ventas y gastos para cumplir con las necesidades de tu negocio.\nSemana 6: La facilidad y seguridad de realizar copias de seguridad de los datos.\n\nThis project is being supported\, in whole or in part\, by federal award number SSBCI-21031-0011 awarded to Nevada SBDC by the U.S. Department of the Treasury. \nCarmen Mendez \nCarmen is an experienced professional with over two decades of experience in management and business development across various industries. Notably\, she has held key roles within prestigious Fortune 500 corporations\, including H&R Block Inc. At H&R Block\, Carmen has honed her expertise in the financial and tax services industry. Her skills in strategic management\, business development\, and operational leadership have been essential in navigating the complexities of the financial and tax landscape. Carmen’s contributions have played a crucial role in enhancing H&R Block’s success in a fiercely competitive market. During her tenure\, Carmen has actively participated in the development and implementation of strategic initiatives to elevate the company’s market position and foster sustainable growth. This includes optimizing tax preparation services\, exploring new business opportunities\, and ensuring strict compliance with regulatory requirements. Carmen’s track record reflects her ability to achieve results and significantly contribute to H&R Block’s position as a leader in the tax and accounting field. \nJeny Zendejas \nJeny Zendejas is a business development advisor at the North Las Vegas office\, where she plays a crucial role in the Nevada Small Business Development Center (SBDC). Throughout her professional journey\, Jeny has gained a diverse range of experiences across the health sector\, education\, and business administration. Her academic background includes a bachelor’s degree in Health Management and a master’s degree in Public Administration\, with a specialized focus on government agencies. Jeny’s unwavering commitment to the community is deeply rooted in her status as a first-generation college graduate and a dedicated dreamer focused on supporting and positively impacting her community. Her current approach involves actively enhancing the efficiency and effectiveness of the program and providing business advisory services by leveraging her extensive knowledge and experience. \n\n\n\nSession #1\n2/21/2025\n9:30 AM\n– 11:30 AM (PST)\n\n\n\nSession #2\n2/28/2025\n9:30 AM\n– 11:30 AM (PST)\n\n\n\nSession #3\n3/7/2025\n9:30 AM\n– 11:30 AM (PST)\n\n\n\nSession #4\n3/14/2025\n9:30 AM\n– 11:30 AM (PDT)\n\n\n\nSession #5\n3/21/2025\n9:30 AM\n– 11:30 AM (PDT)\n\n\n\nSession #6\n3/28/2025\n9:30 AM\n– 11:30 AM (PDT)
URL:https://nevadasbdc.org/event/quickbooks-online-en-espanol-1-0/
LOCATION:Alexander Library\, 1755 W. Alexander Rd\, North Las Vegas\, 89032\, United States
CATEGORIES:Accounting/Finance
ORGANIZER;CN="Nevada SBDC":MAILTO:training@nevadasbdc.org
GEO:36.2314718;-115.164847
X-APPLE-STRUCTURED-LOCATION;VALUE=URI;X-ADDRESS=Alexander Library 1755 W. Alexander Rd North Las Vegas 89032 United States;X-APPLE-RADIUS=500;X-TITLE=1755 W. Alexander Rd:geo:-115.164847,36.2314718
END:VEVENT
BEGIN:VEVENT
DTSTART;TZID=America/Los_Angeles:20250221T190000
DTEND;TZID=America/Los_Angeles:20250221T200000
DTSTAMP:20260423T161011
CREATED:20250117T212719Z
LAST-MODIFIED:20250117T212719Z
UID:10000719-1740164400-1740168000@nevadasbdc.org
SUMMARY:Restaurant Revenue Management Workshop
DESCRIPTION:Join us for an engaging and insightful workshop on Restaurant Revenue Management\, led by industry expert and culinary innovator\, Chef Krit Sempolkrung. Discover practical strategies to maximize your restaurant’s profitability and create unforgettable guest experiences. Whether you’re a seasoned restaurateur or just starting\, this workshop will equip you with actionable tools to elevate your business. \nWhat You’ll Learn: \nMenu Design and Engineering: Optimize your menu for profitability and clarity. Optimizing Restaurant Space and Pricing: Tailor your restaurant’s layout and pricing to attract and retain the right audience. Managing Meal Duration and Reservations: Balance guest flow for maximum efficiency. Building Demand During Slow Periods: Boost traffic with creative promotions\, partnerships\, and digital marketing. Hospitality and Showmanship: Enhance customer service to leave a lasting impression. \nMaking the Most of Labor: Invest in training and systems to create a happy\, efficient team. \nKnown as the “Food and Beverage Guy\,” Chef Krit has served high-profile clients including Mel Gibson\, Taylor Swift\, and the Las Vegas Raiders. His culinary ventures include Secret Creamery\, the Official Golden Knights Ice Cream during their Stanley Cup win. With over a decade of experience at major events like EDC and Life is Beautiful\, Chef Krit brings unmatched expertise and passion. \n \nThe Nevada Small Business Development Center is funded (in part) through a Cooperative Agreement with the U.S. Small Business Administration. All opinions\, conclusions\, and/or recommendations expressed herein are those of the author(s) and do not necessarily reflect the views of the SBA. All services are extended to the public on a non-discriminatory basis. Reasonable accommodations for persons with mental or physical disabilities will be made if requested at least two weeks in advance. Contact your local Nevada SBDC office or the State Office at (800) 240-7094 to make arrangements. SBA cannot endorse any products\, opinions or services of any external parties or activities.
URL:https://nevadasbdc.org/event/restaurant-revenue-management-workshop-2/
LOCATION:8400 W. Sunset Rd #300\, 8400 W Sunset Rd #300\, Las Vegas\, NV\, 89113\, United States
ORGANIZER;CN="Nevada SBDC":MAILTO:training@nevadasbdc.org
GEO:36.0712818;-115.2754368
X-APPLE-STRUCTURED-LOCATION;VALUE=URI;X-ADDRESS=8400 W. Sunset Rd #300 8400 W Sunset Rd #300 Las Vegas NV 89113 United States;X-APPLE-RADIUS=500;X-TITLE=8400 W Sunset Rd #300:geo:-115.2754368,36.0712818
END:VEVENT
BEGIN:VEVENT
DTSTART;TZID=America/Los_Angeles:20250227T140000
DTEND;TZID=America/Los_Angeles:20250227T150000
DTSTAMP:20260423T161011
CREATED:20240530T163806Z
LAST-MODIFIED:20240701T230112Z
UID:10000671-1740664800-1740668400@nevadasbdc.org
SUMMARY:Where's the Contract? What is the DoD’s DPA Title III and Where Businesses Should Go To View FOAs
DESCRIPTION:Nevada APEX Accelerator overview\, plus learn about what this DoD program entails and how to go about finding business opportunities. \nPresented by John Rice\, Government Contracts Advisor\, Nevada APEX Accelerator \n“Where’s The Contract?” is a no-charge monthly training program designed to put Nevada businesses on the path to securing government contracts and subcontracts and diversifying revenue sources. \nRegarding the APEX Accelerator [formerly known as the Nevada Procurement Technical Assistance Center (PTAC)] (note: see the updated webpage at https://goed.nv.gov/programs-incentives/procurement-assistance-outreach/ to become a client and follow us on the updated LinkedIn profile at https://www.linkedin.com): This APEX Accelerator is funded in part through a cooperative agreement with the Department of Defense. \nRegarding the Nevada SBDC: The Nevada SBDC is funded in part through a Cooperative Agreement with the U.S. Small Business Administration. All services are extended to the public on a non-discriminatory basis. Reasonable accommodations for persons with mental or physical disabilities will be made if requested at least two weeks in advance. Contact the Nevada SBDC State Office at (800) 240-7094 to make arrangements. SBA cannot endorse any products\, opinions or services of any external parties or activities. \nThis webinar is co-sponsored by two separate organizations\, i.e.\, the APEX Accelerator and the Nevada SBDC.
URL:https://nevadasbdc.org/event/wheres-the-contract-what-is-the-dods-dpa-title-iii-and-where-businesses-should-go/
LOCATION:ONLINE\, STATEWIDE\, NV\, United States
CATEGORIES:Government Contracting,Webinar
ORGANIZER;CN="APEX Accelerator Northern Nevada":MAILTO:procurement@diversifynevada.com
GEO:38.8026097;-116.419389
END:VEVENT
END:VCALENDAR