BEGIN:VCALENDAR
VERSION:2.0
PRODID:-//Nevada SBDC - ECPv6.10.1//NONSGML v1.0//EN
CALSCALE:GREGORIAN
METHOD:PUBLISH
X-ORIGINAL-URL:https://nevadasbdc.org
X-WR-CALDESC:Events for Nevada SBDC
REFRESH-INTERVAL;VALUE=DURATION:PT1H
X-Robots-Tag:noindex
X-PUBLISHED-TTL:PT1H
BEGIN:VTIMEZONE
TZID:America/Los_Angeles
BEGIN:DAYLIGHT
TZOFFSETFROM:-0800
TZOFFSETTO:-0700
TZNAME:PDT
DTSTART:20250309T100000
END:DAYLIGHT
BEGIN:STANDARD
TZOFFSETFROM:-0700
TZOFFSETTO:-0800
TZNAME:PST
DTSTART:20251102T090000
END:STANDARD
END:VTIMEZONE
BEGIN:VEVENT
DTSTART;TZID=America/Los_Angeles:20250513T120000
DTEND;TZID=America/Los_Angeles:20250513T130000
DTSTAMP:20260423T104948
CREATED:20250422T210146Z
LAST-MODIFIED:20250422T210146Z
UID:10000734-1747137600-1747141200@nevadasbdc.org
SUMMARY:Revamp Your Business Website for Success
DESCRIPTION:Join Jhonny Perez\, owner of Burger Tech\, a local digital marketing agency\, to enhance your website’s performance\, effectiveness\, and online visibility. Your website acts as your digital storefront\, and this webinar will guide entrepreneurs and small business owners in making it more appealing and functional. \nIs your website outdated? Neglecting it can lead to functionality and security issues. Discover how to address common problems caused by neglect in this workshop. \nNot getting the results you expected from your website? Effective planning is crucial. Learn essential elements every business website needs to convert visitors into clients. \nAdditionally\, improve your website’s search engine ranking with beginner-friendly SEO tips. No technical jargon\, just practical advice to boost your website’s SEO. \nJhonny Perez\, a Las Vegas native\, is the proud owner of Burger Tech (https://burger.tech/)\, a local web design and digital marketing agency. His journey began not only at a computer programming terminal but also behind an office desk\, where he provided financial support to small businesses. Blending his technical expertise with a passion for small enterprises\, Jhonny founded Burger Tech. Today\, he finds joy in enhancing businesses’ online presence through services ranging from website design to SEO and various other forms of digital marketing. He remains dedicated to harnessing cutting-edge technologies to empower entrepreneurs in maximizing their online impact. \nIn collaboration with the Henderson Chamber of Commerce and Launchpad.
URL:https://nevadasbdc.org/event/revamp-your-business-website-for-success-2/
LOCATION:ONLINE\, STATEWIDE\, NV\, United States
CATEGORIES:Digital Marketing,Tech Training,Webinar
ORGANIZER;CN="Nevada SBDC":MAILTO:training@nevadasbdc.org
GEO:38.8026097;-116.419389
END:VEVENT
BEGIN:VEVENT
DTSTART;TZID=America/Los_Angeles:20250514T130000
DTEND;TZID=America/Los_Angeles:20250514T143000
DTSTAMP:20260423T104948
CREATED:20250422T210408Z
LAST-MODIFIED:20250422T210408Z
UID:10000735-1747227600-1747233000@nevadasbdc.org
SUMMARY:Credit 101: Building Strong Credit for Personal and Business Success
DESCRIPTION:Understanding credit is essential for both personal financial health and business growth. Join us for Credit 101\, an interactive panel event designed to demystify credit\, empower you with practical strategies\, and answer your most pressing questions. \nOur expert panelists will walk you through: \n\n       The foundations of credit\, including the 5 Cs of credit and updates to the credit scoring system\n       Personal credit: how to build it\, repair it\, and leverage it for business success\n       Business credit: why it matters\, how it works\, and how to establish and maintain it\n       The interconnectedness of personal and business credit\n       Real-world insights on common credit challenges\, rejections\, success stories\, and strategies for making credit work for you\n\nModerator: Kelli Kelly \nPanelists: Cydney Reid\, Dereck Barrett\, Josh Dunlap \nLocation: UNR Innevation Center – Concept Café \nRefreshments Provided: Coffee\, tea\, and water \nWhether you’re an entrepreneur\, aspiring business owner\, or simply want to better understand your financial tools\, this session will equip you with the knowledge to take control of your credit future. \n**Your information will be shared with the University of Nevada\, Reno Innevation Center and U.S. Bank for this event.**
URL:https://nevadasbdc.org/event/credit-101-building-strong-credit-for-personal-and-business-success/
LOCATION:Innevation Center\, 450 Sinclair Street\, Reno\, NV\, 89501\, United States
CATEGORIES:Accounting/Finance,Funding
ORGANIZER;CN="Nevada SBDC":MAILTO:training@nevadasbdc.org
GEO:39.5220337;-119.8080639
X-APPLE-STRUCTURED-LOCATION;VALUE=URI;X-ADDRESS=Innevation Center 450 Sinclair Street Reno NV 89501 United States;X-APPLE-RADIUS=500;X-TITLE=450 Sinclair Street:geo:-119.8080639,39.5220337
END:VEVENT
BEGIN:VEVENT
DTSTART;TZID=America/Los_Angeles:20250515T100000
DTEND;TZID=America/Los_Angeles:20250515T110000
DTSTAMP:20260423T104948
CREATED:20250509T175910Z
LAST-MODIFIED:20250509T175910Z
UID:10000738-1747303200-1747306800@nevadasbdc.org
SUMMARY:Where's the Contract? How to Do Business with General Services Administration (GSA) (Federal government level)
DESCRIPTION:A Nevada APEX Accelerator overview will be shared\, plus learn about doing business with GSA so you can sell commercial products and services to the Federal government. \nPresented by Jeremiah Mesquita\, Government Contracts Advisor\, Nevada APEX Accelerator\, and GSA representatives \n“Where’s The Contract?” is a no-charge monthly training program designed to put Nevada businesses on the path to securing government contracts and subcontracts and diversifying revenue sources. \nRegarding the APEX Accelerator [formerly known as the Nevada Procurement Technical Assistance Center (PTAC)] (note: see the updated webpage at https://goed.nv.gov/programs-incentives/procurement-assistance-outreach/ to become a client and follow us on the updated LinkedIn profile at https://www.linkedin.com): This APEX Accelerator is funded in part through a cooperative agreement with the Department of Defense. \nRegarding the Nevada SBDC: The Nevada SBDC is funded in part through a Cooperative Agreement with the U.S. Small Business Administration. All services are extended to the public on a non-discriminatory basis. Reasonable accommodations for persons with mental or physical disabilities will be made if requested at least two weeks in advance. Contact the Nevada SBDC State Office at (800) 240-7094 to make arrangements. SBA cannot endorse any products\, opinions or services of any external parties or activities. \nThis webinar is co-sponsored by two separate organizations\, i.e.\, the APEX Accelerator and the Nevada SBDC.
URL:https://nevadasbdc.org/event/wheres-the-contract-how-to-do-business-with-general-services-administration-gsa-federal-government-level/
LOCATION:ONLINE\, STATEWIDE\, NV\, United States
CATEGORIES:Government Contracting,Webinar
ORGANIZER;CN="APEX Accelerator Northern Nevada":MAILTO:procurement@diversifynevada.com
GEO:38.8026097;-116.419389
END:VEVENT
END:VCALENDAR